BEGIN:VCALENDAR
VERSION:2.0
PRODID:-//ITS UK - ECPv6.15.20//NONSGML v1.0//EN
CALSCALE:GREGORIAN
METHOD:PUBLISH
X-WR-CALNAME:ITS UK
X-ORIGINAL-URL:https://www.its-uk.org
X-WR-CALDESC:Events for ITS UK
REFRESH-INTERVAL;VALUE=DURATION:PT1H
X-Robots-Tag:noindex
X-PUBLISHED-TTL:PT1H
BEGIN:VTIMEZONE
TZID:Europe/London
BEGIN:DAYLIGHT
TZOFFSETFROM:+0000
TZOFFSETTO:+0100
TZNAME:BST
DTSTART:20220327T010000
END:DAYLIGHT
BEGIN:STANDARD
TZOFFSETFROM:+0100
TZOFFSETTO:+0000
TZNAME:GMT
DTSTART:20221030T010000
END:STANDARD
BEGIN:DAYLIGHT
TZOFFSETFROM:+0000
TZOFFSETTO:+0100
TZNAME:BST
DTSTART:20230326T010000
END:DAYLIGHT
BEGIN:STANDARD
TZOFFSETFROM:+0100
TZOFFSETTO:+0000
TZNAME:GMT
DTSTART:20231029T010000
END:STANDARD
BEGIN:DAYLIGHT
TZOFFSETFROM:+0000
TZOFFSETTO:+0100
TZNAME:BST
DTSTART:20240331T010000
END:DAYLIGHT
BEGIN:STANDARD
TZOFFSETFROM:+0100
TZOFFSETTO:+0000
TZNAME:GMT
DTSTART:20241027T010000
END:STANDARD
END:VTIMEZONE
BEGIN:VEVENT
DTSTART;TZID=Europe/London:20231102T140000
DTEND;TZID=Europe/London:20231102T153000
DTSTAMP:20260423T133928
CREATED:20231003T141622Z
LAST-MODIFIED:20231027T144657Z
UID:4329-1698933600-1698939000@www.its-uk.org
SUMMARY:Enforcement Forum
DESCRIPTION:The ITS UK Enforcement Forum will be meeting online on Thursday 2 November\, 2-3.30pm\, to hear a number of updates from the sector. \nThis online roundtable will provide attendees the opportunity to feed in their thoughts on a number of issues. The session will include: \n\nUpdate on the ‘Let’s Get HOTA Working’ Campaign – Max Sugarman\, Chief Executive\, ITS UK\nAcusensus: Heads Up – update and key findings – Geoff Collins\, General Manager\, Acusensus\nPACTS update on road safety – stopping unfair enforcement and inconsiderate driving – Jamie Hassall\, Executive Director\, PACTS\nCPOS’s role in enforcement – Bhavita Lachani\, Senior Security and Enforcement Technology Manager\, Transport for London\nUsing Forensic Enchancement and Analysis Software to Improve Law Enforcement – Amber Riley\, Sales Manager\, Cubic\n\nPlease do join us for this session where we’ll be discussing the latest key issues for the sector. \nREGISTER NOW 
URL:https://www.its-uk.org/event/enforcement-forum-meeting-2/
LOCATION:Online\, Online
ATTACH;FMTTYPE=image/png:https://www.its-uk.org/wp-content/uploads/2023/10/Enforcement-Camera-2.png
END:VEVENT
END:VCALENDAR