BEGIN:VCALENDAR
VERSION:2.0
PRODID:-//ITS UK - ECPv6.15.20//NONSGML v1.0//EN
CALSCALE:GREGORIAN
METHOD:PUBLISH
X-WR-CALNAME:ITS UK
X-ORIGINAL-URL:https://www.its-uk.org
X-WR-CALDESC:Events for ITS UK
REFRESH-INTERVAL;VALUE=DURATION:PT1H
X-Robots-Tag:noindex
X-PUBLISHED-TTL:PT1H
BEGIN:VTIMEZONE
TZID:Europe/London
BEGIN:DAYLIGHT
TZOFFSETFROM:+0000
TZOFFSETTO:+0100
TZNAME:BST
DTSTART:20220327T010000
END:DAYLIGHT
BEGIN:STANDARD
TZOFFSETFROM:+0100
TZOFFSETTO:+0000
TZNAME:GMT
DTSTART:20221030T010000
END:STANDARD
BEGIN:DAYLIGHT
TZOFFSETFROM:+0000
TZOFFSETTO:+0100
TZNAME:BST
DTSTART:20230326T010000
END:DAYLIGHT
BEGIN:STANDARD
TZOFFSETFROM:+0100
TZOFFSETTO:+0000
TZNAME:GMT
DTSTART:20231029T010000
END:STANDARD
BEGIN:DAYLIGHT
TZOFFSETFROM:+0000
TZOFFSETTO:+0100
TZNAME:BST
DTSTART:20240331T010000
END:DAYLIGHT
BEGIN:STANDARD
TZOFFSETFROM:+0100
TZOFFSETTO:+0000
TZNAME:GMT
DTSTART:20241027T010000
END:STANDARD
END:VTIMEZONE
BEGIN:VEVENT
DTSTART;TZID=Europe/London:20231109T140000
DTEND;TZID=Europe/London:20231109T170000
DTSTAMP:20260423T133928
CREATED:20230929T085244Z
LAST-MODIFIED:20231023T085112Z
UID:4286-1699538400-1699549200@www.its-uk.org
SUMMARY:Launch of the ITS Exports Study
DESCRIPTION:Join us for the launch of a new study exploring the export priorities of the UK ITS sector. \nOn 9 November\, as part of International Trade Week\, ITS UK will be launching a new report\, developed in partnership with the Department for Transport\, highlighting the key overseas markets for UK companies delivering transport technology solutions. \nThe report builds on a survey of over 100 businesses to examine the export potential of the sector and how industry and Government can work together to promote UK transport technology capabilities on the international stage. The report is a significant development for the industry\, and will allow us to prioritise our overseas engagement going forward. \n\nRunning from 2 to 5pm on 9 November\, the event will provide the opportunity for the sector to hear about the latest developments across the global sector! \nRegister to attend here\n  \n\nAgenda\n14:00 | Doors Open \n\nTeas\, coffees and refreshments served. Networking.\n\n14:30 | Welcome \n\nDarren Capes\, ITS Policy Lead and TTF Manager\, Traffic and Technology Division\, Department for Transport\nMax Sugarman\, Chief Executive\, Intelligent Transport Systems UK\n\n14:35 | Keynote: Earl of Minto\, Minister for Regulatory Reform\, Department for Business and Trade \n14:45 | ITS Exports Study Presentation \n\nMax Sugarman\, Chief Executive\, Intelligent Transport Systems UK\n\n15:15 | Panel Discussion: Supporting UK expertise to thrive in a global ITS market \n\nAlison Young\, Head of Global Investment\, Connected Places Catapult\nNeil Walker\, Exports Director\, Railway Industry Association\nNora Ali\, International Channel Manager\, Clearview Intelligence\nRepresentative from AGD Systems (invited)\n\n15:45 | Engaging with Horizon Europe \n\nStefano Mainero\, EPN Consulting\n\n16.00 | Closing Remarks \n17:00 |  Event ends \n\n  \n\n\nSpeakers\nEarl of Minto \nMinister for Regulatory Reform\, Department for Business and Trade \n \n\n\n\nTimothy Minto was appointed a Minister of State in the Department for Business and Trade on 27 March 2023. He was elected to the House of Lords in October 2022. \nPrior to joining government\, he was in business in the consumer sector for nearly 40 years\, most notably leading the team that built Paperchase into a global brand. He has extensive international experience\, both from the supply side and operating retail sites\, across numerous countries. The minister is responsible for: \n\n\n\n\n\n\ncross-government regulatory reform\nbetter regulation\nLords business legislation\nall Private Members Bills\ncorporate issues\n\n\n\n\n\nAlison Young \nHead of Global Investment\, Connected Places Catapult \nAlison is Head of Global Investment with the Connected Places Catapult\, focusing on FDI into the UK’s innovation eco-system\, around Smart Cities and mobility\, working across NetZero mobility projects at the Catapult. She spent six years living and working in the Middle East\, with the Department for International Trade as a Trade & Investment Advisor. Based first in Muscat\, Oman\, where she spent four years leading on a number of sectors\, from Education to Infrastructure\, followed by two and a half years in the UAE\, based in Dubai\, setting up the Technology and Smart Cities sector for DBT\, with a core focus on AI and Fintech. She has lived and worked in over six different countries and is passionate about international trade & investment\, and the green agenda. She is currently working on projects focusing on the wider-decarbonisation of transport from a trade and investment perspective. \n\nStefano Mainero\, EPN Consulting \nStefano has over 25 years of experience in Intelligent Transport Systems (ITS)\, Sustainable Transport and European Projects. He has a 5-year degree in Electronic Engineering awarded by the Politecnico di Torino University (Turin\, Italy) and decades of experience in the Consulting industry that helped him build a wide network of professional relationships across Europe. In 2009 in London he founded the consulting firm EPN Consulting Ltd. \nSince 2007 Stefano collaborates with the European Commission (EC) as Expert Evaluator\, Rapporteur and Reviewer of Transport Projects. Stefano has also participated as an External Transport Expert in Advisory Councils of some European and UK projects. \nStefano has given lectures in Universities in Italy and the UK and has written articles on ITS and European affairs and participated as a speaker and chairman in numerous conferences and workshops on Transport in several European countries. \nStefano is Fellow Member of the UK Chartered Institute of Logistics and Transport (CILT\, UK)\, Member of the British Institution of Engineering and Technology (IET)\, Member of the World Road Association (WRA) and Member of the US Institute of Electrical and Electronic Engineers (IEEE). \n\nThis event is part of the Department for Business and Trade’s International Trade Week. \n \n  \n  \n  \n  \n  \n\n 
URL:https://www.its-uk.org/event/launch-of-the-its-exports-study/
LOCATION:Railway Industry Association\, Kings Buildings\, 16 Smith Square\, London\, London\, SW1P 3HQ\, United Kingdom
ATTACH;FMTTYPE=image/jpeg:https://www.its-uk.org/wp-content/uploads/2023/03/Globe.jpg
END:VEVENT
END:VCALENDAR