BEGIN:VCALENDAR
VERSION:2.0
PRODID:-//ITS UK - ECPv6.15.20//NONSGML v1.0//EN
CALSCALE:GREGORIAN
METHOD:PUBLISH
X-ORIGINAL-URL:https://www.its-uk.org
X-WR-CALDESC:Events for ITS UK
REFRESH-INTERVAL;VALUE=DURATION:PT1H
X-Robots-Tag:noindex
X-PUBLISHED-TTL:PT1H
BEGIN:VTIMEZONE
TZID:Europe/London
BEGIN:DAYLIGHT
TZOFFSETFROM:+0000
TZOFFSETTO:+0100
TZNAME:BST
DTSTART:20220327T010000
END:DAYLIGHT
BEGIN:STANDARD
TZOFFSETFROM:+0100
TZOFFSETTO:+0000
TZNAME:GMT
DTSTART:20221030T010000
END:STANDARD
BEGIN:DAYLIGHT
TZOFFSETFROM:+0000
TZOFFSETTO:+0100
TZNAME:BST
DTSTART:20230326T010000
END:DAYLIGHT
BEGIN:STANDARD
TZOFFSETFROM:+0100
TZOFFSETTO:+0000
TZNAME:GMT
DTSTART:20231029T010000
END:STANDARD
BEGIN:DAYLIGHT
TZOFFSETFROM:+0000
TZOFFSETTO:+0100
TZNAME:BST
DTSTART:20240331T010000
END:DAYLIGHT
BEGIN:STANDARD
TZOFFSETFROM:+0100
TZOFFSETTO:+0000
TZNAME:GMT
DTSTART:20241027T010000
END:STANDARD
END:VTIMEZONE
BEGIN:VEVENT
DTSTART;TZID=Europe/London:20231206T110000
DTEND;TZID=Europe/London:20231206T120000
DTSTAMP:20260423T124730
CREATED:20231117T115723Z
LAST-MODIFIED:20231120T071157Z
UID:4852-1701860400-1701864000@www.its-uk.org
SUMMARY:Data Forum
DESCRIPTION:In November\, the Government held an international AI Safety Summit\, bringing together industry and international governments to understand how AI can be developed safely. Following the Summit\, the parties involved published the Bletchley Declaration\, highlighting that there is “a unique moment to act and affirm the need for the safe development of AI and for the transformative opportunities of AI to be used for good and for all\, in an inclusive manner in our countries and globally”. \nThe ITS UK Data Forum session\, taking place on 6 December\, will ask what the Summit and Declaration mean for transport. There will be a presentation from Forum Officers Dave Weston\, Chris Hutchins and David Trousdale of WSP on ‘Frontier AI in Transport’\, followed by an interactive discussion on the subject. \nWe will also take a quick look back on our 2023 activity and look forward to our future events planned for 2024. \nThis one hour online session from the Data Forum will feature a presentation followed by an interactive discussion led by our Forum officers on the topic of “Frontier AI in Transport\,” a theme that was explored at the recent UK AI Safety Summit. \nAgenda  \nWelcome and introductions \nPresentation and interactive discussion on the topic of ‘Frontier AI in Transport’ \nForum Recap of 2023 and future plans for 2024 \nAOB \nRegister Here 
URL:https://www.its-uk.org/event/data-forum/
LOCATION:Online\, Online
ATTACH;FMTTYPE=image/jpeg:https://www.its-uk.org/wp-content/uploads/2023/11/markus-spiske-8OyKWQgBsKQ-unsplash-scaled.jpg
END:VEVENT
BEGIN:VEVENT
DTSTART;TZID=Europe/London:20231206T190000
DTEND;TZID=Europe/London:20231206T220000
DTSTAMP:20260423T124730
CREATED:20230928T071642Z
LAST-MODIFIED:20230928T072209Z
UID:4249-1701889200-1701900000@www.its-uk.org
SUMMARY:Executive Dinner with Andy Lord
DESCRIPTION:ITS UK will be holding an Executive Dinner on Wednesday 6 December with Transport for London Commissioner Andy Lord. \nThe ITS UK Executive Dinners are a series of events exclusively for our Executive Membership\, where we invite members to meet with senior decision makers and policy leaders across the transport and technology sectors to discuss key issues for the industry in an intimate setting. \nAt the dinner\, the Commissioner will discuss his priorities for London’s transport network and the role transport technology can play in supporting them. \nThis event is sponsored by Arup and Jenoptik. \n     \n  \n  \n  \n\nAbout Andy Lord\nAs Commissioner of TfL\, Andy is responsible for ensuring the delivery of safe and reliable transport services to keep London moving\, growing and to make life in the Capital better for residents\, visitors and businesses. He is responsible for delivering the priorities and objectives set out in the Mayor’s Transport Strategy and TfL Business Plan. \nAndy joined TfL in November 2019\, as Managing Director London Underground having started his career with British Airways as a sponsored undergraduate in 1989\, gaining an honours degree in mechanical engineering from Manchester University. His career saw him take on roles across engineering\, operations and customer service\, culminating as Director of Operations and member of the Executive Leadership Team for just over seven years. Prior to joining TfL\, Andy was Executive Vice President at Menzies Aviation leading the business and operations for the UK\, EMEAI. \nAndy is also a NED at Defence Equipment and Support. \n  \n\nInterested in attending?\nThe ITS UK Executive Dinners are a series of events exclusively for our Executive Members\, with one invite per member. Invitations are sent to the lead contact in each organisation. If you would like to find out more\, please email contact@its-uk.org. \nInterested in Executive Membership?\nExecutive Membership is our premier tier of membership\, for the leading organisations in the sector. It comes with a range of benefits\, with additional events\, discounts and the ability to feed into ITS UK’s strategy and future direction. \nFind out more by emailing contact@its-uk.org.
URL:https://www.its-uk.org/event/executive-dinner-with-andy-lord/
ATTACH;FMTTYPE=image/png:https://www.its-uk.org/wp-content/uploads/2023/09/AL2.png
END:VEVENT
END:VCALENDAR