BEGIN:VCALENDAR
VERSION:2.0
PRODID:-//ITS UK - ECPv6.15.20//NONSGML v1.0//EN
CALSCALE:GREGORIAN
METHOD:PUBLISH
X-ORIGINAL-URL:https://www.its-uk.org
X-WR-CALDESC:Events for ITS UK
REFRESH-INTERVAL;VALUE=DURATION:PT1H
X-Robots-Tag:noindex
X-PUBLISHED-TTL:PT1H
BEGIN:VTIMEZONE
TZID:Europe/London
BEGIN:DAYLIGHT
TZOFFSETFROM:+0000
TZOFFSETTO:+0100
TZNAME:BST
DTSTART:20230326T010000
END:DAYLIGHT
BEGIN:STANDARD
TZOFFSETFROM:+0100
TZOFFSETTO:+0000
TZNAME:GMT
DTSTART:20231029T010000
END:STANDARD
BEGIN:DAYLIGHT
TZOFFSETFROM:+0000
TZOFFSETTO:+0100
TZNAME:BST
DTSTART:20240331T010000
END:DAYLIGHT
BEGIN:STANDARD
TZOFFSETFROM:+0100
TZOFFSETTO:+0000
TZNAME:GMT
DTSTART:20241027T010000
END:STANDARD
BEGIN:DAYLIGHT
TZOFFSETFROM:+0000
TZOFFSETTO:+0100
TZNAME:BST
DTSTART:20250330T010000
END:DAYLIGHT
BEGIN:STANDARD
TZOFFSETFROM:+0100
TZOFFSETTO:+0000
TZNAME:GMT
DTSTART:20251026T010000
END:STANDARD
END:VTIMEZONE
BEGIN:VEVENT
DTSTART;TZID=Europe/London:20240208T120000
DTEND;TZID=Europe/London:20240208T163000
DTSTAMP:20260423T103823
CREATED:20231221T111127Z
LAST-MODIFIED:20240202T150322Z
UID:5404-1707393600-1707409800@www.its-uk.org
SUMMARY:Council Meeting
DESCRIPTION:The first ITS UK Council meeting of the year is set to take place on the 8th February at Microsoft’s offices in Manchester. \nThe ITS UK Council meetings provide the opportunity to hear and influence the direction of ITS UK’s strategic direction as well as to hear from a senior industry speaker on a key issue of the day. \nIn this meeting we are pleased to welcome Owen Wilson\, Head of Major Roads at Transport for the North. \nOur Council meetings take place quarterly and attendance is open to Executive Members only.  If you would like to register for the meeting please get in touch with Rukshan Soysa\, Operations Manager at ITS UK\, at rukshan.soysa@its-uk.org \n\n \nOwen Wilson \nOwen leads the Transport for the North Major Roads Team in working with Department for Transport\, National Highways\, and local Transport Authority partners in shaping policy and investment priorities for the North’s Major Roads. \nOwen considers himself privileged to have enjoyed more than 24yrs experience managing the development and delivery of transport and local economic strategies within the public and NGO sectors.
URL:https://www.its-uk.org/event/its-uk-council-meeting/
LOCATION:Microsoft UA92 Talbot Road Manchester M16 0PU
ATTACH;FMTTYPE=image/jpeg:https://www.its-uk.org/wp-content/uploads/2023/12/benjamin-child-GWe0dlVD9e0-unsplash-scaled.jpg
END:VEVENT
END:VCALENDAR