BEGIN:VCALENDAR
VERSION:2.0
PRODID:-//ITS UK - ECPv6.15.17//NONSGML v1.0//EN
CALSCALE:GREGORIAN
METHOD:PUBLISH
X-ORIGINAL-URL:https://www.its-uk.org
X-WR-CALDESC:Events for ITS UK
REFRESH-INTERVAL;VALUE=DURATION:PT1H
X-Robots-Tag:noindex
X-PUBLISHED-TTL:PT1H
BEGIN:VTIMEZONE
TZID:Europe/London
BEGIN:DAYLIGHT
TZOFFSETFROM:+0000
TZOFFSETTO:+0100
TZNAME:BST
DTSTART:20230326T010000
END:DAYLIGHT
BEGIN:STANDARD
TZOFFSETFROM:+0100
TZOFFSETTO:+0000
TZNAME:GMT
DTSTART:20231029T010000
END:STANDARD
BEGIN:DAYLIGHT
TZOFFSETFROM:+0000
TZOFFSETTO:+0100
TZNAME:BST
DTSTART:20240331T010000
END:DAYLIGHT
BEGIN:STANDARD
TZOFFSETFROM:+0100
TZOFFSETTO:+0000
TZNAME:GMT
DTSTART:20241027T010000
END:STANDARD
BEGIN:DAYLIGHT
TZOFFSETFROM:+0000
TZOFFSETTO:+0100
TZNAME:BST
DTSTART:20250330T010000
END:DAYLIGHT
BEGIN:STANDARD
TZOFFSETFROM:+0100
TZOFFSETTO:+0000
TZNAME:GMT
DTSTART:20251026T010000
END:STANDARD
END:VTIMEZONE
BEGIN:VEVENT
DTSTART;TZID=Europe/London:20240229T120000
DTEND;TZID=Europe/London:20240229T160000
DTSTAMP:20260423T093750
CREATED:20240131T154146Z
LAST-MODIFIED:20240223T153156Z
UID:5775-1709208000-1709222400@www.its-uk.org
SUMMARY:User Behaviour and CAV Forums
DESCRIPTION:The ITS UK User Behaviour Forum in conjunction with the CAV Forum will be meeting at WMG\, the University of Warwick\, on Thursday 29 February (12pm-4pm GMT). \nThe session will be looking at systems thinking when applied to road safety and how this in turn\, then integrates into the user behaviour perspective. \nThere will be presentations from the University of Warwick\, AtkinsRealis\, PACTS and the West of England Combined Authority\, as well as a panel discussion exploring and reflecting on the Automated Vehicles Bill and what it means for the end user. \n  \nAgenda  \n\nIntroductions from University of Warwick (WMG) and ITS UK\nSystems thinking and road safety\, Aston Brand\, Senior Consultant and John-Paul Doherty\, Associate Technical Director\, Atkins\nWMG on Systems Engineering\, Siddartha Khastgir\, Head of Verification and Validation for Connected and Autonomous Vehicles\, University of Warwick\nRoad Safety and how this integrates into User Behaviour\, Jamie Hassall\, Executive Director\, PACTS\nA Local Authority perspective\, from the West of England Combined Authority\nPanel discussion – Reflections on the Automated Vehicles Bill and what it means for the end user
URL:https://www.its-uk.org/event/user-behaviour-and-connected-vehicles-forum-meeting/
LOCATION:University of Warwick\, WMG 6 Lord Bhattacharyya Way\, Coventry CV4 7AL\, Warwick\, CV4 7AL
ATTACH;FMTTYPE=image/jpeg:https://www.its-uk.org/wp-content/uploads/2023/03/shutterstock_1983837515-scaled.jpg
END:VEVENT
END:VCALENDAR