BEGIN:VCALENDAR
VERSION:2.0
PRODID:-//ITS UK - ECPv6.15.17//NONSGML v1.0//EN
CALSCALE:GREGORIAN
METHOD:PUBLISH
X-ORIGINAL-URL:https://www.its-uk.org
X-WR-CALDESC:Events for ITS UK
REFRESH-INTERVAL;VALUE=DURATION:PT1H
X-Robots-Tag:noindex
X-PUBLISHED-TTL:PT1H
BEGIN:VTIMEZONE
TZID:Europe/London
BEGIN:DAYLIGHT
TZOFFSETFROM:+0000
TZOFFSETTO:+0100
TZNAME:BST
DTSTART:20230326T010000
END:DAYLIGHT
BEGIN:STANDARD
TZOFFSETFROM:+0100
TZOFFSETTO:+0000
TZNAME:GMT
DTSTART:20231029T010000
END:STANDARD
BEGIN:DAYLIGHT
TZOFFSETFROM:+0000
TZOFFSETTO:+0100
TZNAME:BST
DTSTART:20240331T010000
END:DAYLIGHT
BEGIN:STANDARD
TZOFFSETFROM:+0100
TZOFFSETTO:+0000
TZNAME:GMT
DTSTART:20241027T010000
END:STANDARD
BEGIN:DAYLIGHT
TZOFFSETFROM:+0000
TZOFFSETTO:+0100
TZNAME:BST
DTSTART:20250330T010000
END:DAYLIGHT
BEGIN:STANDARD
TZOFFSETFROM:+0100
TZOFFSETTO:+0000
TZNAME:GMT
DTSTART:20251026T010000
END:STANDARD
END:VTIMEZONE
BEGIN:VEVENT
DTSTART;TZID=Europe/London:20240513T100000
DTEND;TZID=Europe/London:20240513T120000
DTSTAMP:20260423T075720
CREATED:20240409T201633Z
LAST-MODIFIED:20240409T201745Z
UID:6747-1715594400-1715601600@www.its-uk.org
SUMMARY:Advocacy & Public Affairs Group
DESCRIPTION:Join us for the next meeting of our Advocacy & Public Affairs Group (APAG)\, our key committee for setting the direction of our policy\, comms and advocacy work. \nWe will hear from guest speaker Claudia Toma of Whitestone Insight\, who will give an update on polling ahead of a General Election and the importance of transport as a key issue. \nWe will also update attendees on ITS UK’s Advocacy & Public Affairs engagement\, providing members with the opportunity to feed into our direction. \nRegister here
URL:https://www.its-uk.org/event/advocacy-public-affairs-group-2/
LOCATION:AtkinsRealis\, Nova North\, 11 Bressenden Place\, London\, SW1E 5BY
ATTACH;FMTTYPE=image/png:https://www.its-uk.org/wp-content/uploads/2024/04/parliament-small.png
END:VEVENT
END:VCALENDAR