BEGIN:VCALENDAR
VERSION:2.0
PRODID:-//ITS UK - ECPv6.15.17//NONSGML v1.0//EN
CALSCALE:GREGORIAN
METHOD:PUBLISH
X-WR-CALNAME:ITS UK
X-ORIGINAL-URL:https://www.its-uk.org
X-WR-CALDESC:Events for ITS UK
REFRESH-INTERVAL;VALUE=DURATION:PT1H
X-Robots-Tag:noindex
X-PUBLISHED-TTL:PT1H
BEGIN:VTIMEZONE
TZID:Europe/London
BEGIN:DAYLIGHT
TZOFFSETFROM:+0000
TZOFFSETTO:+0100
TZNAME:BST
DTSTART:20230326T010000
END:DAYLIGHT
BEGIN:STANDARD
TZOFFSETFROM:+0100
TZOFFSETTO:+0000
TZNAME:GMT
DTSTART:20231029T010000
END:STANDARD
BEGIN:DAYLIGHT
TZOFFSETFROM:+0000
TZOFFSETTO:+0100
TZNAME:BST
DTSTART:20240331T010000
END:DAYLIGHT
BEGIN:STANDARD
TZOFFSETFROM:+0100
TZOFFSETTO:+0000
TZNAME:GMT
DTSTART:20241027T010000
END:STANDARD
BEGIN:DAYLIGHT
TZOFFSETFROM:+0000
TZOFFSETTO:+0100
TZNAME:BST
DTSTART:20250330T010000
END:DAYLIGHT
BEGIN:STANDARD
TZOFFSETFROM:+0100
TZOFFSETTO:+0000
TZNAME:GMT
DTSTART:20251026T010000
END:STANDARD
END:VTIMEZONE
BEGIN:VEVENT
DTSTART;TZID=Europe/London:20240523T090000
DTEND;TZID=Europe/London:20240523T160000
DTSTAMP:20260423T075624
CREATED:20240223T152547Z
LAST-MODIFIED:20240223T175548Z
UID:6096-1716454800-1716480000@www.its-uk.org
SUMMARY:Transport After the General Election
DESCRIPTION:How will a new UK Government de-carbonise\, fund and deliver a sustainable transport system? \nNet zero\, transport reform\, funding and delivery remain the big challenges facing the transport industry. With a General Election due this year\, this event by the Transport Times will feature expert discussion on what the response and approach of the new government might be. \nDuring this event the following will be discussed: \n\nThe imminent pre-legislative scrutiny of the draft Rail Reform Bill – will there be cross party support and will Great British Railways and vertical integration be delivered in full? What role will the private sector play going forward?\nNetwork North has replaced the northern leg of HS2 – will this continue to be the case or will High Speed 2 be resurrected? How will improved connectivity and additional capacity be realised and what role will the Rail Network Enhancement Pipeline play in the future?\nDevolution of transport powers across rail and bus are seen as vital for creating the favourable conditions for achieving affordable\, joined-up public transport networks to provide viable alternatives to private cars. How high a priority will further devolution of powers be so that City Regions can plan and deliver these crucial transport networks and services and achieve behavioural change?\nWill the next Government be brave enough to champion and fund the green policies necessary to achieve Net Zero or will populism be a serious threat to de-carbonisation?\n\nThis one day conference will bring together key decision-makers\, practitioners and thinkers to discuss and debate what the transport industry may look like after the General Election \nTo receive 10% off your booking\, individuals should tick the relevant box highlighting they are an ITS UK member at checkout. \n 
URL:https://www.its-uk.org/event/transport-times-2024/
LOCATION:KPMG 15 CANADA SQUARE LONDON E14 5GL\, KPMG 15 Canada Square\, London\, E14 5GL
CATEGORIES:Partner Event
ATTACH;FMTTYPE=image/jpeg:https://www.its-uk.org/wp-content/uploads/2024/02/Future-of-transport-scaled.jpg
END:VEVENT
END:VCALENDAR