BEGIN:VCALENDAR
VERSION:2.0
PRODID:-//ITS UK - ECPv6.15.17//NONSGML v1.0//EN
CALSCALE:GREGORIAN
METHOD:PUBLISH
X-ORIGINAL-URL:https://www.its-uk.org
X-WR-CALDESC:Events for ITS UK
REFRESH-INTERVAL;VALUE=DURATION:PT1H
X-Robots-Tag:noindex
X-PUBLISHED-TTL:PT1H
BEGIN:VTIMEZONE
TZID:Europe/London
BEGIN:DAYLIGHT
TZOFFSETFROM:+0000
TZOFFSETTO:+0100
TZNAME:BST
DTSTART:20230326T010000
END:DAYLIGHT
BEGIN:STANDARD
TZOFFSETFROM:+0100
TZOFFSETTO:+0000
TZNAME:GMT
DTSTART:20231029T010000
END:STANDARD
BEGIN:DAYLIGHT
TZOFFSETFROM:+0000
TZOFFSETTO:+0100
TZNAME:BST
DTSTART:20240331T010000
END:DAYLIGHT
BEGIN:STANDARD
TZOFFSETFROM:+0100
TZOFFSETTO:+0000
TZNAME:GMT
DTSTART:20241027T010000
END:STANDARD
BEGIN:DAYLIGHT
TZOFFSETFROM:+0000
TZOFFSETTO:+0100
TZNAME:BST
DTSTART:20250330T010000
END:DAYLIGHT
BEGIN:STANDARD
TZOFFSETFROM:+0100
TZOFFSETTO:+0000
TZNAME:GMT
DTSTART:20251026T010000
END:STANDARD
END:VTIMEZONE
BEGIN:VEVENT
DTSTART;TZID=Europe/London:20240529T103000
DTEND;TZID=Europe/London:20240529T153000
DTSTAMP:20260423T071045
CREATED:20240424T085522Z
LAST-MODIFIED:20240528T112022Z
UID:6943-1716978600-1716996600@www.its-uk.org
SUMMARY:Data Forum
DESCRIPTION:In this session\, we will be looking at the topic of data security and safety and its importance.  As our transport network becomes more digitalised\, and more data services become available\, the risk from cyberattacks is only going to increase. Data security and safety is going to need to be considered at all levels\, across all organisations involved in maintaining\, operating and improving the network. \nThe ITS UK Data Forum will be exploring this critical issue at our next event on 29 May at Cognizant in London. We have an excellent line up\, including guest speakers from Data for Road Safety (DFRS)\, National Highways and the Open Data Institute. \nAgenda\n10:30am Welcome and Overview of Day \n– An overview of data security and safety\nITS UK Data Forum Chair\, Chris Hutchines-Davies\, WSP \n– Welcome from Cognizant / Transport and AI overview\nNiraj Seth\, Vice President\, Head of Manufacturing\, Logistics\, Energy & Utilities\nPulin Baghela\, Director\, Manufacturing\, Logistics\, Energy & Utilities \nCyber futures: Data trust framework for OT Cyber\nEmyr Thomas\, Chartered Engineer\, National Highways \nData for Road Safety\nMohanad Ismail\, Associate\, Data for Road Safety (DFRS) \nBuilding Trustworthy Transport Data Ecosystems\nJosh D’Addario\, Principal Consultant\, Open Data Institute \nQuickfire presentations from providers\n– Andy Graham\, Vesos\n– Saket Mohan\, Secure Elements\n– Richard Barrington\, Angoka \nPanel Session and Discussion – Opportunities and challenges in delivering a safe and secure data ecosystem for transport \n \n3.30pm Close
URL:https://www.its-uk.org/event/data-forum-2/
LOCATION:280 Bishopsgate\, London EC2M 4AG\, London\, EC2M 4AG
ATTACH;FMTTYPE=image/jpeg:https://www.its-uk.org/wp-content/uploads/2024/04/shutterstock_1669642384-scaled.jpg
END:VEVENT
END:VCALENDAR