BEGIN:VCALENDAR
VERSION:2.0
PRODID:-//ITS UK - ECPv6.15.17//NONSGML v1.0//EN
CALSCALE:GREGORIAN
METHOD:PUBLISH
X-ORIGINAL-URL:https://www.its-uk.org
X-WR-CALDESC:Events for ITS UK
REFRESH-INTERVAL;VALUE=DURATION:PT1H
X-Robots-Tag:noindex
X-PUBLISHED-TTL:PT1H
BEGIN:VTIMEZONE
TZID:Europe/London
BEGIN:DAYLIGHT
TZOFFSETFROM:+0000
TZOFFSETTO:+0100
TZNAME:BST
DTSTART:20230326T010000
END:DAYLIGHT
BEGIN:STANDARD
TZOFFSETFROM:+0100
TZOFFSETTO:+0000
TZNAME:GMT
DTSTART:20231029T010000
END:STANDARD
BEGIN:DAYLIGHT
TZOFFSETFROM:+0000
TZOFFSETTO:+0100
TZNAME:BST
DTSTART:20240331T010000
END:DAYLIGHT
BEGIN:STANDARD
TZOFFSETFROM:+0100
TZOFFSETTO:+0000
TZNAME:GMT
DTSTART:20241027T010000
END:STANDARD
BEGIN:DAYLIGHT
TZOFFSETFROM:+0000
TZOFFSETTO:+0100
TZNAME:BST
DTSTART:20250330T010000
END:DAYLIGHT
BEGIN:STANDARD
TZOFFSETFROM:+0100
TZOFFSETTO:+0000
TZNAME:GMT
DTSTART:20251026T010000
END:STANDARD
END:VTIMEZONE
BEGIN:VEVENT
DTSTART;TZID=Europe/London:20240710T113000
DTEND;TZID=Europe/London:20240710T160000
DTSTAMP:20260423T062426
CREATED:20240607T081527Z
LAST-MODIFIED:20240702T105341Z
UID:7696-1720611000-1720627200@www.its-uk.org
SUMMARY:Bridging the Gap: Joint AESIN\, ITS UK and TTF Workshop
DESCRIPTION:On the 10th July in Coventry\, AESIN\, ITS-UK and the TTF are holding a joint workshop\, as a follow up to the 2023 “Clash of the Systems” event.\nConnected mobility necessitates that we bridge the gap between road infrastructure and the vehicle.  In this event\, road and vehicle side experts will present their positions as we explore topics including tangible use cases\, security\, user experience and how we can make it all a reality in the UK. \nThis is event is aimed at industry stakeholders\, academics and researchers looking to contribute and building collaborations in the themed area. \nAs a special offer\, all attendees will be granted free entry to the AESIN conference on 11 July at the British Motor Museum. \n(Please note\, if you register and fail to attend this workshop\, you will be charged the full rate for AESIN conference admission should you attend the conference). \nRegister Here\n  \nAgenda\n11:30am             Arrival and registration \n12:00pm             Lunch and networking \n13:00pm             Introduction – AESIN and ITS-UK \n13:05pm             Presentations: Luca Arnaboldi\, Birmingham University\, Peter Lockhart\, AESIN    \n13:30pm             Workshop session 1 – Use Cases to bring roads and vehicles together    \n14:15pm             Presentations: Invited speakers from National Highways\, Beam Connectivity  \n14:45pm             Coffee break \n15:15pm             Workshop session 2 – Data\, connectivity and privacy     \n15:45pm             Wrap up and close
URL:https://www.its-uk.org/event/bridging-the-gap-joint-aesin-its-uk-and-the-ttf-workshop/
LOCATION:Online\, Online
ATTACH;FMTTYPE=image/jpeg:https://www.its-uk.org/wp-content/uploads/2024/02/Future-of-transport-scaled.jpg
END:VEVENT
END:VCALENDAR