BEGIN:VCALENDAR
VERSION:2.0
PRODID:-//ITS UK - ECPv6.15.17//NONSGML v1.0//EN
CALSCALE:GREGORIAN
METHOD:PUBLISH
X-WR-CALNAME:ITS UK
X-ORIGINAL-URL:https://www.its-uk.org
X-WR-CALDESC:Events for ITS UK
REFRESH-INTERVAL;VALUE=DURATION:PT1H
X-Robots-Tag:noindex
X-PUBLISHED-TTL:PT1H
BEGIN:VTIMEZONE
TZID:Europe/London
BEGIN:DAYLIGHT
TZOFFSETFROM:+0000
TZOFFSETTO:+0100
TZNAME:BST
DTSTART:20230326T010000
END:DAYLIGHT
BEGIN:STANDARD
TZOFFSETFROM:+0100
TZOFFSETTO:+0000
TZNAME:GMT
DTSTART:20231029T010000
END:STANDARD
BEGIN:DAYLIGHT
TZOFFSETFROM:+0000
TZOFFSETTO:+0100
TZNAME:BST
DTSTART:20240331T010000
END:DAYLIGHT
BEGIN:STANDARD
TZOFFSETFROM:+0100
TZOFFSETTO:+0000
TZNAME:GMT
DTSTART:20241027T010000
END:STANDARD
BEGIN:DAYLIGHT
TZOFFSETFROM:+0000
TZOFFSETTO:+0100
TZNAME:BST
DTSTART:20250330T010000
END:DAYLIGHT
BEGIN:STANDARD
TZOFFSETFROM:+0100
TZOFFSETTO:+0000
TZNAME:GMT
DTSTART:20251026T010000
END:STANDARD
END:VTIMEZONE
BEGIN:VEVENT
DTSTART;TZID=Europe/London:20240903T120000
DTEND;TZID=Europe/London:20240903T150000
DTSTAMP:20260423T045619
CREATED:20240718T080146Z
LAST-MODIFIED:20240729T133925Z
UID:8386-1725364800-1725375600@www.its-uk.org
SUMMARY:Delivering Commercial Value Through Procurement Roundtable
DESCRIPTION:This roundtable is the second in a series exploring how procurement can best be supported in the transport technology industry\, organised by ITS UK in partnership with the Crown Commercial Service. The roundtable will explore how commerical value can be delivered through procurement. \nFurther details will be provided shortly. To register your interest\, please email contact@its-uk.org.
URL:https://www.its-uk.org/event/delivering-commercial-value-through-procurement-roundtable/
LOCATION:West Midlands Combined Authority\, 10 Summer Lane\, Birmingham\, B19 3SD
ATTACH;FMTTYPE=image/jpeg:https://www.its-uk.org/wp-content/uploads/2024/02/Team-working-scaled.jpg
END:VEVENT
END:VCALENDAR