BEGIN:VCALENDAR
VERSION:2.0
PRODID:-//ITS UK - ECPv6.15.17//NONSGML v1.0//EN
CALSCALE:GREGORIAN
METHOD:PUBLISH
X-WR-CALNAME:ITS UK
X-ORIGINAL-URL:https://www.its-uk.org
X-WR-CALDESC:Events for ITS UK
REFRESH-INTERVAL;VALUE=DURATION:PT1H
X-Robots-Tag:noindex
X-PUBLISHED-TTL:PT1H
BEGIN:VTIMEZONE
TZID:Europe/London
BEGIN:DAYLIGHT
TZOFFSETFROM:+0000
TZOFFSETTO:+0100
TZNAME:BST
DTSTART:20230326T010000
END:DAYLIGHT
BEGIN:STANDARD
TZOFFSETFROM:+0100
TZOFFSETTO:+0000
TZNAME:GMT
DTSTART:20231029T010000
END:STANDARD
BEGIN:DAYLIGHT
TZOFFSETFROM:+0000
TZOFFSETTO:+0100
TZNAME:BST
DTSTART:20240331T010000
END:DAYLIGHT
BEGIN:STANDARD
TZOFFSETFROM:+0100
TZOFFSETTO:+0000
TZNAME:GMT
DTSTART:20241027T010000
END:STANDARD
BEGIN:DAYLIGHT
TZOFFSETFROM:+0000
TZOFFSETTO:+0100
TZNAME:BST
DTSTART:20250330T010000
END:DAYLIGHT
BEGIN:STANDARD
TZOFFSETFROM:+0100
TZOFFSETTO:+0000
TZNAME:GMT
DTSTART:20251026T010000
END:STANDARD
END:VTIMEZONE
BEGIN:VEVENT
DTSTART;TZID=Europe/London:20240910T130000
DTEND;TZID=Europe/London:20240910T170000
DTSTAMP:20260423T045620
CREATED:20240710T121353Z
LAST-MODIFIED:20240814T145935Z
UID:8245-1725973200-1725987600@www.its-uk.org
SUMMARY:Road User Charging Forum
DESCRIPTION:We’re partnering with University College London to hold a Road User Charging Forum event\, marking sixty years since the publication of the Smeed Report. The Smeed Report\, led by R.J. Smeed and supported by a team of economists and engineers\, was a study that was published into alternative methods of road user charging and commissioned by the UK Government between 1962 and 1964. \nThis event on the 10 September will take a look back and reflect on 60 years since the Report was published\, focusing on some of the major changes involving policy and practice as well as the technological advances and shifting public perceptions around charging for road use. We’ll hear from academia\, industry and local authorities before looking at what the future could hold for a national road pricing scheme. Please do register your place as soon as possible\, on what promises to be a unique and thought provoking event. \nREGISTER NOW\n  \n\nAgenda\n  \n13:00   Doors open\, lunch served \n13.45    Welcome and Introductions \n– Max Sugarman\, Chief Executive\, ITS UK \n– Prof Peter Jones\, Professor of Transport and Sustainable Development\, UCL \n– Representative from Jacobs \n  \n13.55    Introduction \n– Zeina Nazer\, ITS UK Road User Charging Forum Chair \n– Louise Lawrence\, ITS UK Road User Charging Forum Vice Chair \n  \n14:00  60 Years since Smeed – A reflection on road user charging theory\, policy and practice then and now \n– Prof Emeritus Phil Goodwin\, Professor of Transport Policy\, UCL and University of West England \n– Steven Norris\, President\, ITS UK & Former Transport Minister \n  \n14.30   Advances in technology: International Perspective & Experience \n– Luke Normington\, Senior Vice President\, Neology \n– Tim Wray\, Sales Director\, Kapsch \n  \n15.00    Charging for road use: what do the public think? \n– Silviya Barrett\, Director of Policy and Research\, Campaign for Better Transport \n– Jack Knight\, Managing Consultant and Thomas Welborn\, Managing Consultant\, Stonehaven \n  \n15.30   Q&A with speakers (more time for any questions from all the session above) \n  \n15.45  Break\n\n \n16.00    An economist’s perspective\n \n– John Siraut\, Chief Economist\, Jacobs \n  \n16.10    Pricing for a service rather than charging for contributing to a problem? \n– Prof Peter Jones\, Professor of Transport and Sustainable Development\, UCL \n  \n16.20    Prospects for a national scheme? \n– Steve Gooding\, Director\, RAC Foundation \n  \n16:30   Panel: A national road pricing scheme – Where do we go from here? \n– John Siraut\, Chief Economist\, Jacobs \n– Andrew Crudgington\, Climate Change Associate\, CIHT \n– Ben Plowden\, Chair of Transport Planning Society \n– Steve Gooding\, Director\, RAC Foundation \n– Zeina Nazer\, Road User Charging Forum Chair \n– Matthew Hills\, Transport Strategy and Economics\, PwC \n  \n17.00    Wrap up \n– Prof Peter Jones\, Professor of Transport and Sustainable Development\, UCL \n– Zeina Nazer\, Chair and Louise Lawrence\, Vice Chair\, Road User Charging Forum \n  \n17.15   Close \n17.15 – 18.00   Drinks and Networking \n  \nREGISTER NOW
URL:https://www.its-uk.org/event/road-user-charging-forum-2/
LOCATION:Cottons Centre\, London SE1 2QG\, SE1 2QG
ATTACH;FMTTYPE=image/jpeg:https://www.its-uk.org/wp-content/uploads/2024/07/CV-picture-scaled.jpg
ORGANIZER;CN="Rukshan Soysa":MAILTO:rukshan.soysa@its-uk.org
END:VEVENT
END:VCALENDAR