BEGIN:VCALENDAR
VERSION:2.0
PRODID:-//ITS UK - ECPv6.15.17//NONSGML v1.0//EN
CALSCALE:GREGORIAN
METHOD:PUBLISH
X-ORIGINAL-URL:https://www.its-uk.org
X-WR-CALDESC:Events for ITS UK
REFRESH-INTERVAL;VALUE=DURATION:PT1H
X-Robots-Tag:noindex
X-PUBLISHED-TTL:PT1H
BEGIN:VTIMEZONE
TZID:Europe/London
BEGIN:DAYLIGHT
TZOFFSETFROM:+0000
TZOFFSETTO:+0100
TZNAME:BST
DTSTART:20230326T010000
END:DAYLIGHT
BEGIN:STANDARD
TZOFFSETFROM:+0100
TZOFFSETTO:+0000
TZNAME:GMT
DTSTART:20231029T010000
END:STANDARD
BEGIN:DAYLIGHT
TZOFFSETFROM:+0000
TZOFFSETTO:+0100
TZNAME:BST
DTSTART:20240331T010000
END:DAYLIGHT
BEGIN:STANDARD
TZOFFSETFROM:+0100
TZOFFSETTO:+0000
TZNAME:GMT
DTSTART:20241027T010000
END:STANDARD
BEGIN:DAYLIGHT
TZOFFSETFROM:+0000
TZOFFSETTO:+0100
TZNAME:BST
DTSTART:20250330T010000
END:DAYLIGHT
BEGIN:STANDARD
TZOFFSETFROM:+0100
TZOFFSETTO:+0000
TZNAME:GMT
DTSTART:20251026T010000
END:STANDARD
END:VTIMEZONE
BEGIN:VEVENT
DTSTART;TZID=Europe/London:20241003T120000
DTEND;TZID=Europe/London:20241003T153000
DTSTAMP:20260423T041131
CREATED:20240805T133459Z
LAST-MODIFIED:20240805T133532Z
UID:8692-1727956800-1727969400@www.its-uk.org
SUMMARY:Smart Data Roundtable
DESCRIPTION:ITS UK and the Open Data Institute (ODI)\, one of the country’s leading data organisations\, are organising a roundtable on smart transport data\, taking place on 3 October from 12pm – 3pm. \nEarlier this year\, the then-Government set out the Smart Data Roadmap\, listing a number of key sectors where it believed smart data could have a significant benefit. Transport was listed as one of the industries where a new approach to smart data could lead to better information and greater access to the transport network. Following the Roadmap’s publication\, the new Government published a Digital Information and Smart Data Bill to enable new innovative uses of data to improve people’s lives. \nAt this Roundtable\, ITS UK and ODI will be looking to explore the role of smart data in a transport context. We will share learnings from other industries where smart data has progressed and discuss what a smart data approach could mean for transport providers and suppliers\, the Mobility-as-a-Service (MaaS) sector and the wider transport network. The roundtable will gather key industry leaders from transport and data\, in what will be a fantastic opportunity to exchange ideas and shape a united vision for the transport technology industry. \nThis event is for Executive Members only – to secure a registration link\, please email contact@its-uk.org.
URL:https://www.its-uk.org/event/smart-data/
LOCATION:Provided on registration
ATTACH;FMTTYPE=image/jpeg:https://www.its-uk.org/wp-content/uploads/2023/04/shutterstock_1705312234.jpg
END:VEVENT
END:VCALENDAR