BEGIN:VCALENDAR
VERSION:2.0
PRODID:-//ITS UK - ECPv6.15.17//NONSGML v1.0//EN
CALSCALE:GREGORIAN
METHOD:PUBLISH
X-WR-CALNAME:ITS UK
X-ORIGINAL-URL:https://www.its-uk.org
X-WR-CALDESC:Events for ITS UK
REFRESH-INTERVAL;VALUE=DURATION:PT1H
X-Robots-Tag:noindex
X-PUBLISHED-TTL:PT1H
BEGIN:VTIMEZONE
TZID:Europe/London
BEGIN:DAYLIGHT
TZOFFSETFROM:+0000
TZOFFSETTO:+0100
TZNAME:BST
DTSTART:20230326T010000
END:DAYLIGHT
BEGIN:STANDARD
TZOFFSETFROM:+0100
TZOFFSETTO:+0000
TZNAME:GMT
DTSTART:20231029T010000
END:STANDARD
BEGIN:DAYLIGHT
TZOFFSETFROM:+0000
TZOFFSETTO:+0100
TZNAME:BST
DTSTART:20240331T010000
END:DAYLIGHT
BEGIN:STANDARD
TZOFFSETFROM:+0100
TZOFFSETTO:+0000
TZNAME:GMT
DTSTART:20241027T010000
END:STANDARD
BEGIN:DAYLIGHT
TZOFFSETFROM:+0000
TZOFFSETTO:+0100
TZNAME:BST
DTSTART:20250330T010000
END:DAYLIGHT
BEGIN:STANDARD
TZOFFSETFROM:+0100
TZOFFSETTO:+0000
TZNAME:GMT
DTSTART:20251026T010000
END:STANDARD
END:VTIMEZONE
BEGIN:VEVENT
DTSTART;VALUE=DATE:20241016
DTEND;VALUE=DATE:20241018
DTSTAMP:20260423T041042
CREATED:20240801T161141Z
LAST-MODIFIED:20240819T123811Z
UID:8651-1729036800-1729209599@www.its-uk.org
SUMMARY:Highways UK
DESCRIPTION:Highways UK brings together everyone involved in planning\, developing\, managing\, maintaining\, and future-proofing the nation’s roads networks and takes place at the NEC in Birmingham on the 16-17 October. \nThis is a free to attend exhibition hosting over 375 exhibitors from across the globe\, featuring new ways of thinking and novel partnerships to generate solutions. \nITS UK is a partner for this event and will have a stand at the exhibition (TBC). Please get in touch directly with Highways UK to find out more about this event. \nMore information is available here.
URL:https://www.its-uk.org/event/highways-uk-2024/
LOCATION:NEC\, Birmingham\, B40 1NT
ATTACH;FMTTYPE=image/jpeg:https://www.its-uk.org/wp-content/uploads/2024/08/53269403807_3130a042dd_k.jpg
END:VEVENT
END:VCALENDAR