BEGIN:VCALENDAR
VERSION:2.0
PRODID:-//ITS UK - ECPv6.15.17//NONSGML v1.0//EN
CALSCALE:GREGORIAN
METHOD:PUBLISH
X-WR-CALNAME:ITS UK
X-ORIGINAL-URL:https://www.its-uk.org
X-WR-CALDESC:Events for ITS UK
REFRESH-INTERVAL;VALUE=DURATION:PT1H
X-Robots-Tag:noindex
X-PUBLISHED-TTL:PT1H
BEGIN:VTIMEZONE
TZID:Europe/London
BEGIN:DAYLIGHT
TZOFFSETFROM:+0000
TZOFFSETTO:+0100
TZNAME:BST
DTSTART:20230326T010000
END:DAYLIGHT
BEGIN:STANDARD
TZOFFSETFROM:+0100
TZOFFSETTO:+0000
TZNAME:GMT
DTSTART:20231029T010000
END:STANDARD
BEGIN:DAYLIGHT
TZOFFSETFROM:+0000
TZOFFSETTO:+0100
TZNAME:BST
DTSTART:20240331T010000
END:DAYLIGHT
BEGIN:STANDARD
TZOFFSETFROM:+0100
TZOFFSETTO:+0000
TZNAME:GMT
DTSTART:20241027T010000
END:STANDARD
BEGIN:DAYLIGHT
TZOFFSETFROM:+0000
TZOFFSETTO:+0100
TZNAME:BST
DTSTART:20250330T010000
END:DAYLIGHT
BEGIN:STANDARD
TZOFFSETFROM:+0100
TZOFFSETTO:+0000
TZNAME:GMT
DTSTART:20251026T010000
END:STANDARD
END:VTIMEZONE
BEGIN:VEVENT
DTSTART;TZID=Europe/London:20241107T181500
DTEND;TZID=Europe/London:20241107T230000
DTSTAMP:20260423T040628
CREATED:20240306T093234Z
LAST-MODIFIED:20241030T112643Z
UID:6240-1731003300-1731020400@www.its-uk.org
SUMMARY:President's Dinner and Awards
DESCRIPTION:The ITS UK President’s Dinner returns for 2024 on 7 November and is one of the main industry events of the year.  Featuring the ITS UK Awards\, the Dinner showcases the very best of the intelligent transport sector\, including the innovation\, expertise and dynamism of organisations and individuals across the industry. \nThe Dinner is a celebration of all the organisations\, individuals and projects that have delivered for the UK and is attended by key clients and decision makers from a variety of organisations. It is a perfect opportunity to network\, meet friends old and new\, over a luxurious evening in the heart of London. \nThe Awards will take place at the Millennium Gloucester Hotel\, a leading conference hotel\, located in the heart of the Kensington area.  The venue is ideal for the national celebration of a key sector for the UK.  The evening will begin with a drinks reception at 6.15pm\, before guests are invited to join us for a lavish three-course meal and awards ceremony. \nRegister here
URL:https://www.its-uk.org/event/2024-presidents-dinner-and-awards/
LOCATION:SW7 4LH\, 4-18 Harrington Gardens\, South Kensington\, London\, SW7 4LH
ATTACH;FMTTYPE=image/jpeg:https://www.its-uk.org/wp-content/uploads/2024/03/tis-130-scaled.jpg
END:VEVENT
END:VCALENDAR