BEGIN:VCALENDAR
VERSION:2.0
PRODID:-//ITS UK - ECPv6.15.17//NONSGML v1.0//EN
CALSCALE:GREGORIAN
METHOD:PUBLISH
X-WR-CALNAME:ITS UK
X-ORIGINAL-URL:https://www.its-uk.org
X-WR-CALDESC:Events for ITS UK
REFRESH-INTERVAL;VALUE=DURATION:PT1H
X-Robots-Tag:noindex
X-PUBLISHED-TTL:PT1H
BEGIN:VTIMEZONE
TZID:Europe/London
BEGIN:DAYLIGHT
TZOFFSETFROM:+0000
TZOFFSETTO:+0100
TZNAME:BST
DTSTART:20230326T010000
END:DAYLIGHT
BEGIN:STANDARD
TZOFFSETFROM:+0100
TZOFFSETTO:+0000
TZNAME:GMT
DTSTART:20231029T010000
END:STANDARD
BEGIN:DAYLIGHT
TZOFFSETFROM:+0000
TZOFFSETTO:+0100
TZNAME:BST
DTSTART:20240331T010000
END:DAYLIGHT
BEGIN:STANDARD
TZOFFSETFROM:+0100
TZOFFSETTO:+0000
TZNAME:GMT
DTSTART:20241027T010000
END:STANDARD
BEGIN:DAYLIGHT
TZOFFSETFROM:+0000
TZOFFSETTO:+0100
TZNAME:BST
DTSTART:20250330T010000
END:DAYLIGHT
BEGIN:STANDARD
TZOFFSETFROM:+0100
TZOFFSETTO:+0000
TZNAME:GMT
DTSTART:20251026T010000
END:STANDARD
END:VTIMEZONE
BEGIN:VEVENT
DTSTART;TZID=Europe/London:20241112T120000
DTEND;TZID=Europe/London:20241112T161500
DTSTAMP:20260423T040721
CREATED:20241001T090210Z
LAST-MODIFIED:20241105T091844Z
UID:9477-1731412800-1731428100@www.its-uk.org
SUMMARY:Freight Forum
DESCRIPTION:We’re pleased to announce that the ITS UK Freight Forum will meet at the WSP Mailbox in Birmingham on the 12 November to discuss rail freight and intermodal operations. \nChaired by our newly appointed Freight Forum Chair\, Matt Lott of WSP\, we will welcome some high profile speakers across the freight industry including Go Link\, Rail X\, Hull University and the Chartered Institute of Logistics and Transport (CILT). \nAn agenda is below and we encourage you to register your place as soon as possible on what promises to be an excellent event. \n  \nAgenda\n12:00 I Lunch \n13.00 I Introductions from the Freight Forum Officers & WSP\nMatt Lott\, WSP and ITS UK Freight Forum Chair \n13.10 I Go Link: How to make Express Rail Logistics work\nAdam Parkinson\, Founding Director\, Go Link \n13.25 I How technology can make the Rail industry more efficient \nSteve Freeman\, Co-Founder and Chairman\, Rail X \n13.40 I The Barriers to Rail Freight\nRalph Goldney\, Managing Director\, Rail Freight Consultancy \n13.55 I Update from CILT and a multi-modal perspective\nDavid Turner\, Deputy Chair\, Chartered Institute of Logistics and Transport \n14.10 I Q&A and discussion \n14.30 I Break \n14:45 I Examples of technology use\, data simulation and digital twins in the rail industry\nAndy Hepworth\, Account Director\, Sopra Steria \n15.00 I Using data and journey modelling for better rail freight\nBarrie Louw\, Systems and Operations Manager\, Hull University \n15:15 I Update from FORS\nGeraint Davies\, FORS Director \n15.30 I Q&A \n15.45 I Panel Discussion \n16.15 I Close of Event
URL:https://www.its-uk.org/event/freight-forum/
LOCATION:WSP Mailbox\, Wharfside St\, Birmingham\, B1 1RQ
ATTACH;FMTTYPE=image/jpeg:https://www.its-uk.org/wp-content/uploads/2024/10/bernd-dittrich-nTNYdM4odU0-unsplash-scaled.jpg
END:VEVENT
END:VCALENDAR