BEGIN:VCALENDAR
VERSION:2.0
PRODID:-//ITS UK - ECPv6.15.17//NONSGML v1.0//EN
CALSCALE:GREGORIAN
METHOD:PUBLISH
X-ORIGINAL-URL:https://www.its-uk.org
X-WR-CALDESC:Events for ITS UK
REFRESH-INTERVAL;VALUE=DURATION:PT1H
X-Robots-Tag:noindex
X-PUBLISHED-TTL:PT1H
BEGIN:VTIMEZONE
TZID:Europe/London
BEGIN:DAYLIGHT
TZOFFSETFROM:+0000
TZOFFSETTO:+0100
TZNAME:BST
DTSTART:20230326T010000
END:DAYLIGHT
BEGIN:STANDARD
TZOFFSETFROM:+0100
TZOFFSETTO:+0000
TZNAME:GMT
DTSTART:20231029T010000
END:STANDARD
BEGIN:DAYLIGHT
TZOFFSETFROM:+0000
TZOFFSETTO:+0100
TZNAME:BST
DTSTART:20240331T010000
END:DAYLIGHT
BEGIN:STANDARD
TZOFFSETFROM:+0100
TZOFFSETTO:+0000
TZNAME:GMT
DTSTART:20241027T010000
END:STANDARD
BEGIN:DAYLIGHT
TZOFFSETFROM:+0000
TZOFFSETTO:+0100
TZNAME:BST
DTSTART:20250330T010000
END:DAYLIGHT
BEGIN:STANDARD
TZOFFSETFROM:+0100
TZOFFSETTO:+0000
TZNAME:GMT
DTSTART:20251026T010000
END:STANDARD
END:VTIMEZONE
BEGIN:VEVENT
DTSTART;TZID=Europe/London:20241119T180000
DTEND;TZID=Europe/London:20241119T220000
DTSTAMP:20260423T032314
CREATED:20240402T174205Z
LAST-MODIFIED:20240419T165609Z
UID:6639-1732039200-1732053600@www.its-uk.org
SUMMARY:Executive Dinner with Hugh Gillies
DESCRIPTION:Each year\, ITS UK organises four dinners\, exclusively for our Executive Members\, providing them with the opportunity to meet with key decision-makers in the transport sector and to discuss key issues of the day in an intimate setting. \n  \nSince March 2016 Hugh Gillies has been part of Transport Scotland’s senior management team with day to day responsibility for the operation and maintenance of Scotland’s trunk road network (TRN) and in delivering the Scottish Government’s road policy objectives. At the dinner\, he will discuss his priorities for Scotland’s road network\, including the importance of technology in supporting decarbonisation\, safety and a more efficient network. \n  \nThis event is kindly sponsored by Arup\, AtkinsRealis and Egis. \n \n  \n\nAbout Hugh Gillies \n \nHugh has over 30 years’ experience in roads and transportation. Prior to joining Transport Scotland he had a diverse career which took him north and south of the border while working in both the private and public sectors. He is a graduate of Edinburgh Napier University\, a Chartered Civil Engineer\, a Transport Planning Professional and a member of the Chartered Institution of Highways and Transportation. \n  \n\nInterested in attending? \nThis event is exclusively for ITS UK’s Executive Membership. You can find out more about becoming an Executive Member by emailing us here.
URL:https://www.its-uk.org/event/executive-dinner-with-hugh-gillies/
ATTACH;FMTTYPE=image/jpeg:https://www.its-uk.org/wp-content/uploads/2023/03/Scottish-Road.jpg
END:VEVENT
END:VCALENDAR