BEGIN:VCALENDAR
VERSION:2.0
PRODID:-//ITS UK - ECPv6.15.17//NONSGML v1.0//EN
CALSCALE:GREGORIAN
METHOD:PUBLISH
X-ORIGINAL-URL:https://www.its-uk.org
X-WR-CALDESC:Events for ITS UK
REFRESH-INTERVAL;VALUE=DURATION:PT1H
X-Robots-Tag:noindex
X-PUBLISHED-TTL:PT1H
BEGIN:VTIMEZONE
TZID:Europe/London
BEGIN:DAYLIGHT
TZOFFSETFROM:+0000
TZOFFSETTO:+0100
TZNAME:BST
DTSTART:20240331T010000
END:DAYLIGHT
BEGIN:STANDARD
TZOFFSETFROM:+0100
TZOFFSETTO:+0000
TZNAME:GMT
DTSTART:20241027T010000
END:STANDARD
BEGIN:DAYLIGHT
TZOFFSETFROM:+0000
TZOFFSETTO:+0100
TZNAME:BST
DTSTART:20250330T010000
END:DAYLIGHT
BEGIN:STANDARD
TZOFFSETFROM:+0100
TZOFFSETTO:+0000
TZNAME:GMT
DTSTART:20251026T010000
END:STANDARD
BEGIN:DAYLIGHT
TZOFFSETFROM:+0000
TZOFFSETTO:+0100
TZNAME:BST
DTSTART:20260329T010000
END:DAYLIGHT
BEGIN:STANDARD
TZOFFSETFROM:+0100
TZOFFSETTO:+0000
TZNAME:GMT
DTSTART:20261025T010000
END:STANDARD
END:VTIMEZONE
BEGIN:VEVENT
DTSTART;TZID=Europe/London:20250121T183000
DTEND;TZID=Europe/London:20250121T210000
DTSTAMP:20260423T032314
CREATED:20240517T173306Z
LAST-MODIFIED:20241203T145640Z
UID:7346-1737484200-1737493200@www.its-uk.org
SUMMARY:Parliamentary Dinner on Rural Mobility
DESCRIPTION:On 21 January\, ITS UK will host a Dinner in Parliament exploring how transport technology can support rural mobility\, particularly in the area of Demand Responsive Transport (DRT). \nHosted by Transport Committee member Alex Mayer MP\, the dinner will explore: \n\nHow the transport technology industry addresses better rural mobility;\nThe role of Demand Responsive Transport (DRT) services\, with examples from across the country of how DRT is improving rural connectivity;\nThe importance of integrating transport services more effectively;\nThe role of the upcoming Integrated Transport Strategy; and\nThe role of regulation\, including removing VAT on DRT services using smaller vehicles.\n\nThe session will bring together policymakers\, including MPs and Peers from across Parliament\, alongside local authorities\, DRT providers and industry leaders. \nThe Dinner comes following the announcement of the  Transport Select Committee inquiry into buses\, which includes specific questions around DRT\, smart ticketing and bus innovations. \nThis roundtable is sponsored by Via Transportation. \n \n  \n  \n  \nIf you would like to attend\, please email us directly at contact@its-uk.org. One place is offered per member representative on a first come\, first served basis.
URL:https://www.its-uk.org/event/parliamentary-roundtable-on-rural-mobility/
LOCATION:Parliament\, House of Commons\, Westminster\, London\, SW1A 0AA\, United Kingdom
ATTACH;FMTTYPE=image/png:https://www.its-uk.org/wp-content/uploads/2024/04/parliament-small.png
END:VEVENT
END:VCALENDAR