BEGIN:VCALENDAR
VERSION:2.0
PRODID:-//ITS UK - ECPv6.15.17//NONSGML v1.0//EN
CALSCALE:GREGORIAN
METHOD:PUBLISH
X-ORIGINAL-URL:https://www.its-uk.org
X-WR-CALDESC:Events for ITS UK
REFRESH-INTERVAL;VALUE=DURATION:PT1H
X-Robots-Tag:noindex
X-PUBLISHED-TTL:PT1H
BEGIN:VTIMEZONE
TZID:Europe/London
BEGIN:DAYLIGHT
TZOFFSETFROM:+0000
TZOFFSETTO:+0100
TZNAME:BST
DTSTART:20240331T010000
END:DAYLIGHT
BEGIN:STANDARD
TZOFFSETFROM:+0100
TZOFFSETTO:+0000
TZNAME:GMT
DTSTART:20241027T010000
END:STANDARD
BEGIN:DAYLIGHT
TZOFFSETFROM:+0000
TZOFFSETTO:+0100
TZNAME:BST
DTSTART:20250330T010000
END:DAYLIGHT
BEGIN:STANDARD
TZOFFSETFROM:+0100
TZOFFSETTO:+0000
TZNAME:GMT
DTSTART:20251026T010000
END:STANDARD
BEGIN:DAYLIGHT
TZOFFSETFROM:+0000
TZOFFSETTO:+0100
TZNAME:BST
DTSTART:20260329T010000
END:DAYLIGHT
BEGIN:STANDARD
TZOFFSETFROM:+0100
TZOFFSETTO:+0000
TZNAME:GMT
DTSTART:20261025T010000
END:STANDARD
END:VTIMEZONE
BEGIN:VEVENT
DTSTART;VALUE=DATE:20250304
DTEND;VALUE=DATE:20250305
DTSTAMP:20260422T233821
CREATED:20241209T142211Z
LAST-MODIFIED:20250304T101020Z
UID:10807-1741046400-1741132799@www.its-uk.org
SUMMARY:Annual Conference at Interchange
DESCRIPTION:ITS UK’s Annual Conference returns for its second year and will explore the latest across transport technology\, innovation and the future of mobility. \nOpen to all\, the Conference will focus on the theme of: “How to build an integrated transport network?”. The Conference will include a collection of keynotes giving an update on key sectors – road\, bus\, rail – and a number of panels exploring cross-cutting issues like data and digitalisation\, decarbonisation and exports. A full agenda can be found below. \nThe Conference will bring together transport authorities\, technology providers and industry leaders across all modes to discuss how we can create a more joined-up\, seamless\, safer and greener transport system. \nRegister to attend via the button below. Attendance is free\, and gives you access to both days of Interchange. Please use code ITSUK25 where it says “if you have a code please enter it here”. \nRegister here\n  \n\nAgenda\n11.45-12.00 | Welcome\nStuart Scott\, Chair\, ITS UK | Head of Service — ITS\, Mott MacDonald\nMax Sugarman\, Chief Executive\, ITS UK \n12.00-12.20 | Keynote: Digitising our road network\nDavin Crowley-Street\, CDO\, National Highways \n12.20-13.10 | Digitalisation & Data: How can open and accessible data support an integrated transport network?\nEmma Thwaites\, Director of Global Policy and Corporate Affairs\, Open Data Institute\nSam Rose\, Director for Data and Advanced Analytics\, Department for Transport\nBradley Taylor\, Head of Markets\, Ordnance Survey\nDan Clarke\, Future Mobility Lead\, Cambridgeshire Partnership\nMike Guerin\, Head of Business Development\, Swarco\nHannah Tune\, ITS Development Manager\, Transport for Greater Manchester\nChair: Ryan Hood\, Digital Highways Leader\, Arup \n13.10-14.00 | Exhibition \nNetworking\, including keynote in exhibition hall \n14.00-14.20 | Keynote: Innovation in rail\nAdam Lowery\, Technical Director\, GBRX\nChair: Richard Carr\, Technical Director\, Railway Industry Association (RIA) \n14.20-15.00 | Decarbonisation: How can technology support a cleaner\, greener network?\nHeather Foster\, New Technologies Lead\, Midlands Connect\nEugenia Agell-Bernad\, Corporate Partnerships Manager\, Campaign for Better Transport\nKeith McCabe\, Chief Executive Officer\, Simplifai Systems\nAlice Pleasant\, Senior Public Affairs Manager\, Lime\nMark Bell\, Digital Transformation Lead\, Mott MacDona\nChair: Catherine Whitfield\, Deputy Group Technical Director\, WSP \n15.00-15.20 | Keynote: A new moment for the bus sector\nStephen Fidler\, Director – Buses\, Department for Transport \n15.20-15.45 | Exhibition\nNetworking\, including keynote in exhibition hall \n15.45-16.15 | The Active Travel Conversation\nDarren Capes\, ITS Policy Lead\, Department for Transport\nJulian Scriven\, Managing Director\, Brompton Bike Hire & Chair\, Urban Mobility Partnership\nChair: Caroline Hildreth\, Principal – Transport\, Netcompany \n16.15-16.55 | Going global: How can we boost the uptake of ITS across the world?\nKimmo Ylisiurunen\, Head of Cluster\, Fintraffic\nSven Aulik\, Director – International Partnerships\, Fleetguru\nDonal Hodgins\, Chair\, ITS Nationals Network | Head of Sustainable Transport & Traffic\, Kildare County Council\nChris Lane\, Head of Transport Innovation\, Transport for the West Midlands\nMiki Szikszai\, CEO\, Snapper Services\nChair: Neil Levett\, Director\, Levett Business Services \n16.55-17.00 | Closing remarks\nSteve Norris\, President\, ITS UK \n  \n\n  \nMain Sponsor\n  \n \n  \nSilver Sponsors\n \n\nEstonian and Finnish ITS Delegation Breakfast\nJoin ITS Estonia\, ITS Finland and ITS UK for a morning breakfast reception\, connecting you with professionals across the three countries. \nRunning from 10am to 11am on Wednesday 5 March (the day after the ITS UK Conference)\, the Reception will provide the opportunity for UK attendees to meet colleagues from Estonia and Finland who are attending Interchange as a delegation. This is a chance to meet those working in the ITS sector across these markets\, and to discuss how the three countries can work together to support better connectivity through technology. \nThis Reception is open to all – you do not need to be an ITS UK\, ITS Estonia or ITS Finland Member to attend. \nPlease note\, to attend this event you will also need a registration for Interchange. Registration for Interchange is free\, and available here.  \n  \nRegister for the breakfast\nSupported by:
URL:https://www.its-uk.org/event/annual-conference-at-interchange-2/
LOCATION:Manchester Central Convention Complex\, Windmill Street\, Manchester M2 3GX\, Manchester Central Convention Complex\, Windmill Street\, Manchester\, M2 3GX
CATEGORIES:Conference
ATTACH;FMTTYPE=image/jpeg:https://www.its-uk.org/wp-content/uploads/2024/12/its-42.jpg
END:VEVENT
END:VCALENDAR