BEGIN:VCALENDAR
VERSION:2.0
PRODID:-//ITS UK - ECPv6.15.17//NONSGML v1.0//EN
CALSCALE:GREGORIAN
METHOD:PUBLISH
X-ORIGINAL-URL:https://www.its-uk.org
X-WR-CALDESC:Events for ITS UK
REFRESH-INTERVAL;VALUE=DURATION:PT1H
X-Robots-Tag:noindex
X-PUBLISHED-TTL:PT1H
BEGIN:VTIMEZONE
TZID:Europe/London
BEGIN:DAYLIGHT
TZOFFSETFROM:+0000
TZOFFSETTO:+0100
TZNAME:BST
DTSTART:20240331T010000
END:DAYLIGHT
BEGIN:STANDARD
TZOFFSETFROM:+0100
TZOFFSETTO:+0000
TZNAME:GMT
DTSTART:20241027T010000
END:STANDARD
BEGIN:DAYLIGHT
TZOFFSETFROM:+0000
TZOFFSETTO:+0100
TZNAME:BST
DTSTART:20250330T010000
END:DAYLIGHT
BEGIN:STANDARD
TZOFFSETFROM:+0100
TZOFFSETTO:+0000
TZNAME:GMT
DTSTART:20251026T010000
END:STANDARD
BEGIN:DAYLIGHT
TZOFFSETFROM:+0000
TZOFFSETTO:+0100
TZNAME:BST
DTSTART:20260329T010000
END:DAYLIGHT
BEGIN:STANDARD
TZOFFSETFROM:+0100
TZOFFSETTO:+0000
TZNAME:GMT
DTSTART:20261025T010000
END:STANDARD
END:VTIMEZONE
BEGIN:VEVENT
DTSTART;TZID=Europe/London:20250311T090000
DTEND;TZID=Europe/London:20250311T103000
DTSTAMP:20260422T233846
CREATED:20250219T100430Z
LAST-MODIFIED:20250310T083511Z
UID:12120-1741683600-1741689000@www.its-uk.org
SUMMARY:Women in ITS Group
DESCRIPTION:Join us online via Teams on the 11 March at 09.00am (GMT) for the Women in ITS annual celebration of International Women’s Day 2025. \nWe will be exploring some key themes including diversity within the ITS sector\, how the sector is growing to enhance female leadership and how we can be forward thinking and create the right future environments for a more robust and balanced workforce. \nWe have some excellent international speakers lined up including\, ITS Australia Chief Executive – Susan Harris\, winner of the ITS UK Woman of the Year Award Jill Hayden\, AtkinsRealis\,  Miranda Blogg – Queensland Department of Transport and Main Roads and Elena Minguet\, WSP. \nFollowing presentations from our speakers\, there will be dedicated time to ask questions and share your thoughts. \nWe encourage you to join the webinar for this key date – so please do register your place below. \nRegister Here\nAgenda\n09:00am   Welcome & Overview of Session\nGemma Tredwell\, WITS Forum Chair \n09.05am   Diversity initiatives for the Australia ITS Sector\nSusan Harris\, ITS Australia Chief Executive \n09.20am\nMiranda Blogg\, Director of the Cooperative and Automated Vehicle Initiative\, Queensland Department of Transport and Main Roads \n09.35am   Diversity statement and the Road to World Congress 2027\nChris Lane\, Strategic Head of Transport Innovation\, Transport for West Midlands \n09.40am    My career journey\nJill Hayden\, Technical Director\, AtkinsRealis\, ITS UK Woman of the Year \n09.55am     Move to Australia in 6 steps … also valid for any goal!\nElena Minguet\, Senior ITS Engineer\, WSP \n10.10am      Q&A \n10.30am      Close
URL:https://www.its-uk.org/event/women-in-its/
LOCATION:Online\, Online
ATTACH;FMTTYPE=image/jpeg:https://www.its-uk.org/wp-content/uploads/2023/03/christina-wocintechchat-com-eF7HN40WbAQ-unsplash-e1687294448157.jpg
END:VEVENT
END:VCALENDAR