BEGIN:VCALENDAR
VERSION:2.0
PRODID:-//ITS UK - ECPv6.15.17//NONSGML v1.0//EN
CALSCALE:GREGORIAN
METHOD:PUBLISH
X-ORIGINAL-URL:https://www.its-uk.org
X-WR-CALDESC:Events for ITS UK
REFRESH-INTERVAL;VALUE=DURATION:PT1H
X-Robots-Tag:noindex
X-PUBLISHED-TTL:PT1H
BEGIN:VTIMEZONE
TZID:Europe/London
BEGIN:DAYLIGHT
TZOFFSETFROM:+0000
TZOFFSETTO:+0100
TZNAME:BST
DTSTART:20240331T010000
END:DAYLIGHT
BEGIN:STANDARD
TZOFFSETFROM:+0100
TZOFFSETTO:+0000
TZNAME:GMT
DTSTART:20241027T010000
END:STANDARD
BEGIN:DAYLIGHT
TZOFFSETFROM:+0000
TZOFFSETTO:+0100
TZNAME:BST
DTSTART:20250330T010000
END:DAYLIGHT
BEGIN:STANDARD
TZOFFSETFROM:+0100
TZOFFSETTO:+0000
TZNAME:GMT
DTSTART:20251026T010000
END:STANDARD
BEGIN:DAYLIGHT
TZOFFSETFROM:+0000
TZOFFSETTO:+0100
TZNAME:BST
DTSTART:20260329T010000
END:DAYLIGHT
BEGIN:STANDARD
TZOFFSETFROM:+0100
TZOFFSETTO:+0000
TZNAME:GMT
DTSTART:20261025T010000
END:STANDARD
END:VTIMEZONE
BEGIN:VEVENT
DTSTART;VALUE=DATE:20250319
DTEND;VALUE=DATE:20250321
DTSTAMP:20260422T233848
CREATED:20250130T101252Z
LAST-MODIFIED:20250130T122450Z
UID:11802-1742342400-1742515199@www.its-uk.org
SUMMARY:Connected Places Summit
DESCRIPTION:Connected Places Catapult are back again in 2025\, to once again host a two day summit of interactive content\, live project showcases\, inspiring thought leadership and opportunities to connect with peers from technology\, transport\, mobility\, cities\, academia\, and Government. \n\n\nThe Connected Places Summit will harness the collective ingenuity\, innovation\, and collaboration of our community to innovate together – as for innovation to flourish you need to be connected. \nYou can find out more information and how to register your place on their website here. \nA full agenda is also available to view here. \nITS UK are proud supporters of this event. ITS UK members can secure 20% when booking by using a code available on our Members Area here. Please note that tickets are limited to 20 and will expire on 26 February\, 2025\, so you need to be sure to register before that date. \nFor all enquiries about this event\, please liaise directly with Connected Places Catapult.
URL:https://www.its-uk.org/event/connected-places-summit/
LOCATION:Convene Sancroft\, St Paul's\, Paternoster Square\, London\, EC4M 7DQ\, United Kingdom
ATTACH;FMTTYPE=image/jpeg:https://www.its-uk.org/wp-content/uploads/2025/01/panel-4.jpeg
END:VEVENT
END:VCALENDAR