BEGIN:VCALENDAR
VERSION:2.0
PRODID:-//ITS UK - ECPv6.15.17//NONSGML v1.0//EN
CALSCALE:GREGORIAN
METHOD:PUBLISH
X-ORIGINAL-URL:https://www.its-uk.org
X-WR-CALDESC:Events for ITS UK
REFRESH-INTERVAL;VALUE=DURATION:PT1H
X-Robots-Tag:noindex
X-PUBLISHED-TTL:PT1H
BEGIN:VTIMEZONE
TZID:Europe/London
BEGIN:DAYLIGHT
TZOFFSETFROM:+0000
TZOFFSETTO:+0100
TZNAME:BST
DTSTART:20240331T010000
END:DAYLIGHT
BEGIN:STANDARD
TZOFFSETFROM:+0100
TZOFFSETTO:+0000
TZNAME:GMT
DTSTART:20241027T010000
END:STANDARD
BEGIN:DAYLIGHT
TZOFFSETFROM:+0000
TZOFFSETTO:+0100
TZNAME:BST
DTSTART:20250330T010000
END:DAYLIGHT
BEGIN:STANDARD
TZOFFSETFROM:+0100
TZOFFSETTO:+0000
TZNAME:GMT
DTSTART:20251026T010000
END:STANDARD
BEGIN:DAYLIGHT
TZOFFSETFROM:+0000
TZOFFSETTO:+0100
TZNAME:BST
DTSTART:20260329T010000
END:DAYLIGHT
BEGIN:STANDARD
TZOFFSETFROM:+0100
TZOFFSETTO:+0000
TZNAME:GMT
DTSTART:20261025T010000
END:STANDARD
END:VTIMEZONE
BEGIN:VEVENT
DTSTART;TZID=Europe/London:20250325T120000
DTEND;TZID=Europe/London:20250325T153000
DTSTAMP:20260422T233848
CREATED:20250206T155524Z
LAST-MODIFIED:20250325T082515Z
UID:11932-1742904000-1742916600@www.its-uk.org
SUMMARY:Council Meeting
DESCRIPTION:Please save the date for our next ITS UK Council meeting\, which will take place on the 25 March (12-3.30pm) at Netcompany’s offices in London. \nThe ITS UK Council meetings provide the opportunity to hear from senior industry speakers on a key issue of the day and influence ITS UK’s strategic direction. Taking place quarterly\, attendance is open to Executive Members only.   \nAlongside input from Netcompany themselves\, we will have key updates from clients and public sector organisations.  To attend\, please RSVP to rukshan.soysa@its-uk.org \nAgenda\nLunch | 12pm \n Welcome and introductions | 1pm \n Keynotes | 1.10pm \n\nThe latest temporary ITS innovations – Ben Parsons\, Business Development Director\, SRL\nUpdate from National Highways – Vivi Michalaki\, Head of ITS (virtual)\n\n Key Updates from the Nations & Regions | 1.30pm \n\nInnovate UK – Martine Harvey\, Innovation Lead\nTransport for Greater Manchester – Hannah Tune\, ITS Development Manager\nGlasgow City Council – Nicola Bell\, Group Manager\, Traffic and Road Safety (virtual)\nCrown Commercial Services – Steve Sopp\, Commercial Lead\nTransport Scotland – Stephen Davies\, National Operations Manager\n\nNew Members Spotlight | 2.15pm \n\nNow Wireless – Paul Hudson\, Project and Sales Manager\n\nITS UK Business Plan 2025 Update & Governance Review | 2.45pm \n AOB  \n Close | 3.30pm
URL:https://www.its-uk.org/event/council-meeting-6/
LOCATION:Netcompany\, 7th Floor\, 33 King William Street\, EC4R 9AT\, United Kingdom
ATTACH;FMTTYPE=image/jpeg:https://www.its-uk.org/wp-content/uploads/2023/12/benjamin-child-GWe0dlVD9e0-unsplash-scaled.jpg
END:VEVENT
END:VCALENDAR