BEGIN:VCALENDAR
VERSION:2.0
PRODID:-//ITS UK - ECPv6.15.17//NONSGML v1.0//EN
CALSCALE:GREGORIAN
METHOD:PUBLISH
X-ORIGINAL-URL:https://www.its-uk.org
X-WR-CALDESC:Events for ITS UK
REFRESH-INTERVAL;VALUE=DURATION:PT1H
X-Robots-Tag:noindex
X-PUBLISHED-TTL:PT1H
BEGIN:VTIMEZONE
TZID:Europe/London
BEGIN:DAYLIGHT
TZOFFSETFROM:+0000
TZOFFSETTO:+0100
TZNAME:BST
DTSTART:20240331T010000
END:DAYLIGHT
BEGIN:STANDARD
TZOFFSETFROM:+0100
TZOFFSETTO:+0000
TZNAME:GMT
DTSTART:20241027T010000
END:STANDARD
BEGIN:DAYLIGHT
TZOFFSETFROM:+0000
TZOFFSETTO:+0100
TZNAME:BST
DTSTART:20250330T010000
END:DAYLIGHT
BEGIN:STANDARD
TZOFFSETFROM:+0100
TZOFFSETTO:+0000
TZNAME:GMT
DTSTART:20251026T010000
END:STANDARD
BEGIN:DAYLIGHT
TZOFFSETFROM:+0000
TZOFFSETTO:+0100
TZNAME:BST
DTSTART:20260329T010000
END:DAYLIGHT
BEGIN:STANDARD
TZOFFSETFROM:+0100
TZOFFSETTO:+0000
TZNAME:GMT
DTSTART:20261025T010000
END:STANDARD
END:VTIMEZONE
BEGIN:VEVENT
DTSTART;TZID=Europe/London:20250424T100000
DTEND;TZID=Europe/London:20250424T160000
DTSTAMP:20260422T223341
CREATED:20250326T150654Z
LAST-MODIFIED:20250416T090901Z
UID:12965-1745488800-1745510400@www.its-uk.org
SUMMARY:Future of Rail: Integrated Transport
DESCRIPTION:ITS UK is partnering with the Railway Industry Association and Campaign for Better Transport to host the Future of Rail: Integrated Transport. \nIntegrated transport networks are continuing to grow across the country. Rail and light rail are a key part of this\, but buses and active travel also play an important role. This event will look at rail as part of a system\, and how this system can come together to drive economic and social benefits. \nITS UK will hosting a panel on the day on the role of Mobility as a Service within an integrated transport system. A full agenda will be published in due course. \nThis event is part of RIA’s Future of Rail series leads and shapes the national debate on the future of the rail sector\, marking RIA’s 150th year\, and the 200th anniversary of the railway. \nRegister here\nITS UK members can secure free tickets to this event. To do so\, you will need to input a code at checkout. To receive the code\, please email contact@its-uk.org \nAgenda\n10:00 – Registrations and Networking \n11:00 – Morning session \nWelcomes: \n\nRichard Carr\, Technical & Innovation Director\, RIA\nMax Sugarman\, CEO\, ITS UK\nBen Plowden\, CEO\, Campaign for Better Transport (Event Chair)\n\nKeynote: Department for Transport (TBC): The Integrated National Transport Strategy \nKeynote: Nicola Kane\, Director\, Steer: What does vision-lead planning mean for the railway industry? \nPanel Discussion: Success\, strategies and goals for integrated transport \n\nJo Clayton\, Head of Planning and Placemaking\, Active Travel England\nJohn Birtwhistle\, Head of Policy\, First Bus\nRichard Marwood\, Bus Programme Director\, Transport for Wales\nDave Haskins\, Strategic Head of Major Projects\, West Yorkshire Combined Authority\nNetwork Rail – speaker TBC\n\nKeynote: Vernon Everitt\, Transport Commissioner for Greater Manchester \n12:45 – Networking Lunch \n13:45 – Afternoon Session \nPanel Discussion: The role of MaaS in an integrated transport system (Chaired by ITS UK) \n\nJorgen Pedersen\, Total Transport Consultants\nAdrian Ulisse\, Transit Partnerships Lead – Global\, Uber\nErika Vincent\, CEO\, MaaStran\nLiv Walker\, VP Operations\, CityMapper\nChair: Max Sugarman\, Chief Executive\, ITS UK\n\nPanel Discussion: The wider benefits of Integrated Transport \n\nAndrew Bradley\, Net Zero Travel and Transport Lead\, NHS England\nClare Kingswood\, Policy & Commercial Development Director\, First Group\nDavid Carter\, Projects Director\, Systra\nHarry Gray\, Steering Group Member\, Walk Ride GM\nMichael Solomon Williams\, Head of Campaigns\, CfBT\n\n16:00 – Event close
URL:https://www.its-uk.org/event/future-of-rail-integrated-transport/
LOCATION:Manchester Conference Centre\, Sackville St\, Manchester\, Sackville Street\, Manchester\, M1 3BB
ATTACH;FMTTYPE=image/jpeg:https://www.its-uk.org/wp-content/uploads/2025/03/shutterstock_2437890519.jpg
ORGANIZER;CN="Rukshan Soysa":MAILTO:rukshan.soysa@its-uk.org
END:VEVENT
END:VCALENDAR