BEGIN:VCALENDAR
VERSION:2.0
PRODID:-//ITS UK - ECPv6.15.17//NONSGML v1.0//EN
CALSCALE:GREGORIAN
METHOD:PUBLISH
X-ORIGINAL-URL:https://www.its-uk.org
X-WR-CALDESC:Events for ITS UK
REFRESH-INTERVAL;VALUE=DURATION:PT1H
X-Robots-Tag:noindex
X-PUBLISHED-TTL:PT1H
BEGIN:VTIMEZONE
TZID:Europe/London
BEGIN:DAYLIGHT
TZOFFSETFROM:+0000
TZOFFSETTO:+0100
TZNAME:BST
DTSTART:20240331T010000
END:DAYLIGHT
BEGIN:STANDARD
TZOFFSETFROM:+0100
TZOFFSETTO:+0000
TZNAME:GMT
DTSTART:20241027T010000
END:STANDARD
BEGIN:DAYLIGHT
TZOFFSETFROM:+0000
TZOFFSETTO:+0100
TZNAME:BST
DTSTART:20250330T010000
END:DAYLIGHT
BEGIN:STANDARD
TZOFFSETFROM:+0100
TZOFFSETTO:+0000
TZNAME:GMT
DTSTART:20251026T010000
END:STANDARD
BEGIN:DAYLIGHT
TZOFFSETFROM:+0000
TZOFFSETTO:+0100
TZNAME:BST
DTSTART:20260329T010000
END:DAYLIGHT
BEGIN:STANDARD
TZOFFSETFROM:+0100
TZOFFSETTO:+0000
TZNAME:GMT
DTSTART:20261025T010000
END:STANDARD
END:VTIMEZONE
BEGIN:VEVENT
DTSTART;TZID=Europe/London:20250603T103000
DTEND;TZID=Europe/London:20250603T150000
DTSTAMP:20260422T203455
CREATED:20250430T164835Z
LAST-MODIFIED:20250507T085849Z
UID:13492-1748946600-1748962800@www.its-uk.org
SUMMARY:Enabling Multi-Modal Journeys: A DfT - ITS UK Joint Workshop
DESCRIPTION:The Integrated National Transport Strategy will be published this year and set the long-term vision for transport in England\, focusing on how transport should be designed\, built and operated to better serve all people who use it. \nThe Strategy will focus on the role transport plays in enabling access to opportunities including education and jobs\, and support the devolution agenda and the creation of great places by setting out how local leaders will be enabled to deliver good transport that is right for their communities. \nAlongside this\, the Department for Transport are developing a Data Action Plan which will show how data can enable an integrated transport system. It will set out actions required to ensure transport data can support modal integration and deliver more accessible transport. \nData will play a critical role in achieving this. Often\, it’s the journeys across different modes or regions that struggle to provide customers with clear information that helps improve their experience. Creating a more seamless flow across operators will be vital in delivering a truly integrated transport network. \nFollowing a series of external engagement events\, the Department for Transport and ITS UK are working together to run a workshop focused on how data can support multi-modal journeys. \nThe workshop will centre on key case studies developed by DfT and will ask participants to explore how applications of data can help in making the journeys described within the case studies more seamless. \nThis event is open to all (you do not need to be an ITS UK member to attend)\, with DfT and ITS UK welcoming the following: \n\nNational\, regional and local transport authorities\nTransport operators and suppliers\nTechnology providers and consultancies\nUser groups and representative bodies\n\nWe encourage those attending to be ready to input into the workshops over the course of the day. A full agenda and case studies will be shared with delegates ahead of the event. \nRegister here\n  \n  \n\n\nThis is a joint event organised by:\n         \n 
URL:https://www.its-uk.org/event/enabling-multi-modal-journeys/
LOCATION:Royal Armouries Museum\, Royal Armouries Museum\, Armouries Drive\, Leeds\, LS10 1LT\, United Kingdom
ATTACH;FMTTYPE=image/jpeg:https://www.its-uk.org/wp-content/uploads/2024/05/Leeds-scaled.jpg
ORGANIZER;CN="Rukshan Soysa":MAILTO:rukshan.soysa@its-uk.org
END:VEVENT
END:VCALENDAR