BEGIN:VCALENDAR
VERSION:2.0
PRODID:-//ITS UK - ECPv6.15.17//NONSGML v1.0//EN
CALSCALE:GREGORIAN
METHOD:PUBLISH
X-WR-CALNAME:ITS UK
X-ORIGINAL-URL:https://www.its-uk.org
X-WR-CALDESC:Events for ITS UK
REFRESH-INTERVAL;VALUE=DURATION:PT1H
X-Robots-Tag:noindex
X-PUBLISHED-TTL:PT1H
BEGIN:VTIMEZONE
TZID:Europe/London
BEGIN:DAYLIGHT
TZOFFSETFROM:+0000
TZOFFSETTO:+0100
TZNAME:BST
DTSTART:20240331T010000
END:DAYLIGHT
BEGIN:STANDARD
TZOFFSETFROM:+0100
TZOFFSETTO:+0000
TZNAME:GMT
DTSTART:20241027T010000
END:STANDARD
BEGIN:DAYLIGHT
TZOFFSETFROM:+0000
TZOFFSETTO:+0100
TZNAME:BST
DTSTART:20250330T010000
END:DAYLIGHT
BEGIN:STANDARD
TZOFFSETFROM:+0100
TZOFFSETTO:+0000
TZNAME:GMT
DTSTART:20251026T010000
END:STANDARD
BEGIN:DAYLIGHT
TZOFFSETFROM:+0000
TZOFFSETTO:+0100
TZNAME:BST
DTSTART:20260329T010000
END:DAYLIGHT
BEGIN:STANDARD
TZOFFSETFROM:+0100
TZOFFSETTO:+0000
TZNAME:GMT
DTSTART:20261025T010000
END:STANDARD
END:VTIMEZONE
BEGIN:VEVENT
DTSTART;TZID=Europe/London:20250617T140000
DTEND;TZID=Europe/London:20250617T170000
DTSTAMP:20260422T203338
CREATED:20250310T161426Z
LAST-MODIFIED:20250605T103032Z
UID:12576-1750168800-1750179600@www.its-uk.org
SUMMARY:Parliamentary Reception
DESCRIPTION:ITS UK’s annual Parliamentary Reception is back\, taking place on Tuesday 17 June 2025 in the Terrace Pavilion of the House of Commons\, from 2 to 5pm. \nWith an Integrated National Transport Strategy and Road Safety Strategy in the pipeline\, various new bills and legislation regarding the bus and rail sector\, and a Spending Review ongoing\, the Reception will be the perfect opportunity to hear from Ministers\, MPs and Peers on their latest priorities for the transport technology sector. \nSpeakers\nWe look forward to be joined by policy makers from across the main political parties\, including: \n– Future of Roads Minister Lilian Greenwood MP\n– Shadow Transport Minister Lord Moylan\n– Paul Kohler MP\, Liberal Democrat Transport Spokesperson \nRegistration\nThis event is currently only open to ITS UK Members. Please login below to register your place. You can find instructions on how to login or register for an account here. \nRegister here\nNot a member? Get in touch at contact@its-uk.org \n  \nHeadline Supporter\n \n  \nEvent Partner\n \n  \n  \n  \nThis year\, the Parliamentary Reception will take place before the MOVE trade show at the Excel in London\, providing a fantastic opportunity to meet and network before the show. MOVE is one of the world’s leading tech mobility events\, and this year will take place from 18th to 19th June. Find out more here \nAttending MOVE provides parliamentarians and ministers with exclusive access to cutting-edge innovations and industry trends\, empowering them to shape policy on the future of technology\, sustainability\, and economic growth while expanding their networks with key decision-makers and thought leaders.  We believe it’s crucial for public sector voices to be central to the conversation\, which is why MOVE is offering public sector employees complimentary access to the event. Register for a complimentary pass here. \nIf you are not public sector\, you are welcome to use the discount code ITS30 at checkout to claim 30% off MOVE tickets. These can be accessed here.
URL:https://www.its-uk.org/event/parliamentary-reception-2/
LOCATION:Parliament\, House of Commons\, Westminster\, London\, SW1A 0AA\, United Kingdom
ATTACH;FMTTYPE=image/jpeg:https://www.its-uk.org/wp-content/uploads/2025/03/itsUK-11.jpg
ORGANIZER;CN="Eduardo Pitts":MAILTO:eduardo.pitts@its-uk.org
END:VEVENT
END:VCALENDAR