BEGIN:VCALENDAR
VERSION:2.0
PRODID:-//ITS UK - ECPv6.15.17//NONSGML v1.0//EN
CALSCALE:GREGORIAN
METHOD:PUBLISH
X-WR-CALNAME:ITS UK
X-ORIGINAL-URL:https://www.its-uk.org
X-WR-CALDESC:Events for ITS UK
REFRESH-INTERVAL;VALUE=DURATION:PT1H
X-Robots-Tag:noindex
X-PUBLISHED-TTL:PT1H
BEGIN:VTIMEZONE
TZID:Europe/London
BEGIN:DAYLIGHT
TZOFFSETFROM:+0000
TZOFFSETTO:+0100
TZNAME:BST
DTSTART:20240331T010000
END:DAYLIGHT
BEGIN:STANDARD
TZOFFSETFROM:+0100
TZOFFSETTO:+0000
TZNAME:GMT
DTSTART:20241027T010000
END:STANDARD
BEGIN:DAYLIGHT
TZOFFSETFROM:+0000
TZOFFSETTO:+0100
TZNAME:BST
DTSTART:20250330T010000
END:DAYLIGHT
BEGIN:STANDARD
TZOFFSETFROM:+0100
TZOFFSETTO:+0000
TZNAME:GMT
DTSTART:20251026T010000
END:STANDARD
BEGIN:DAYLIGHT
TZOFFSETFROM:+0000
TZOFFSETTO:+0100
TZNAME:BST
DTSTART:20260329T010000
END:DAYLIGHT
BEGIN:STANDARD
TZOFFSETFROM:+0100
TZOFFSETTO:+0000
TZNAME:GMT
DTSTART:20261025T010000
END:STANDARD
END:VTIMEZONE
BEGIN:VEVENT
DTSTART;VALUE=DATE:20250618
DTEND;VALUE=DATE:20250620
DTSTAMP:20260422T203334
CREATED:20250415T101908Z
LAST-MODIFIED:20250501T215829Z
UID:13258-1750204800-1750377599@www.its-uk.org
SUMMARY:MOVE
DESCRIPTION:Join ITS UK at MOVE\, the leading trade show for mobility and transport technology. \nTaking place from 18 to 19 June at the Excel in London\, MOVE unites OEMs\, government\, fleets\, micromobilities\, utilities\, energy providers\, start-ups\, investors\, tech and media. The show is focused on brinnging together the entire mobility ecosystem\, focusing on tech\, innovation\, and transformation. \nGetting involved\nITS UK will be participating in the show. We can be found at Stand 119\, with the full exhibition plan available here. \nWe will also be taking part in two panels at the show: \n– Using connected tech to improve road-traffic safety\, Theatre 1\, 19 June at 12.05pm \n– Connecting underserved communities: the latest in demand responsive transit and BRT\, Theatre 3\, 19 June at 3.45pm \nITS UK members can secure 30% off their ticket. To secure your discount code\, please email contact@its-uk.org when booking here. Please note\, public sector attendees can register for free. \n\nITS UK is holding its annual Parliamentary Reception the afternoon before MOVE\, on 17 June. This is free for Members – find out more here.
URL:https://www.its-uk.org/event/move/
LOCATION:MOVE\, Excel\, 1 Western Gateway\, Royal Victoria Dock\, London\, E16 1XL\, United Kingdom
ATTACH;FMTTYPE=image/jpeg:https://www.its-uk.org/wp-content/uploads/2025/04/1710320217-busy-2-scaled.jpeg
END:VEVENT
BEGIN:VEVENT
DTSTART;VALUE=DATE:20250619
DTEND;VALUE=DATE:20250620
DTSTAMP:20260422T203334
CREATED:20250528T163146Z
LAST-MODIFIED:20250530T165125Z
UID:19067-1750291200-1750377599@www.its-uk.org
SUMMARY:AESIN Conference
DESCRIPTION:The AESIN Conference celebrates the UK’s leading automotive electronics organisations and showcases advancements in automotive technology.​ As a partner of ITS UK\, members can secure an exclusive 2-for-1 ticket to the Conference through their ITS UK membership! \nAbout\nAESIN has been at the forefront of advancing and promoting the automotive electronics and software systems industry for over a decade\, and they will be commemorating their continued success with a conference that you won’t want to miss. \nThe Conference will look to the future of the automotive electronics industry\, with inspiring keynote speakers\, technical presentations\, and engaging panel discussions. It will take place at the British Motor Museum\, Gaydon\, Warwickshire\, which holds the world’s largest collection of historic British cars\, with over 300 cars on display from the British Motor Industry Heritage Trust and the Jaguar Heritage Trust. \nWatch a video of last year’s Conference here. \n\nSecure a 2-for-1 ticket\nITS UK members can benefit from an exclusive 2-for-1 ticket offer. To secure this offer\, please go email contact@its-uk.org to secure the code. \nRegister here\n  \n  \n 
URL:https://www.its-uk.org/event/aesin-conference/
LOCATION:British Motor Museum\, Banbury Road Gaydon\, Lighthorne Heath\, Warwick\, CV35 0BJ\, United Kingdom
ATTACH;FMTTYPE=image/jpeg:https://www.its-uk.org/wp-content/uploads/2025/05/AESIN_2024-177.jpg
END:VEVENT
END:VCALENDAR