BEGIN:VCALENDAR
VERSION:2.0
PRODID:-//ITS UK - ECPv6.15.17//NONSGML v1.0//EN
CALSCALE:GREGORIAN
METHOD:PUBLISH
X-ORIGINAL-URL:https://www.its-uk.org
X-WR-CALDESC:Events for ITS UK
REFRESH-INTERVAL;VALUE=DURATION:PT1H
X-Robots-Tag:noindex
X-PUBLISHED-TTL:PT1H
BEGIN:VTIMEZONE
TZID:Europe/London
BEGIN:DAYLIGHT
TZOFFSETFROM:+0000
TZOFFSETTO:+0100
TZNAME:BST
DTSTART:20240331T010000
END:DAYLIGHT
BEGIN:STANDARD
TZOFFSETFROM:+0100
TZOFFSETTO:+0000
TZNAME:GMT
DTSTART:20241027T010000
END:STANDARD
BEGIN:DAYLIGHT
TZOFFSETFROM:+0000
TZOFFSETTO:+0100
TZNAME:BST
DTSTART:20250330T010000
END:DAYLIGHT
BEGIN:STANDARD
TZOFFSETFROM:+0100
TZOFFSETTO:+0000
TZNAME:GMT
DTSTART:20251026T010000
END:STANDARD
BEGIN:DAYLIGHT
TZOFFSETFROM:+0000
TZOFFSETTO:+0100
TZNAME:BST
DTSTART:20260329T010000
END:DAYLIGHT
BEGIN:STANDARD
TZOFFSETFROM:+0100
TZOFFSETTO:+0000
TZNAME:GMT
DTSTART:20261025T010000
END:STANDARD
END:VTIMEZONE
BEGIN:VEVENT
DTSTART;TZID=Europe/London:20250626T100000
DTEND;TZID=Europe/London:20250626T113000
DTSTAMP:20260422T203455
CREATED:20250528T131716Z
LAST-MODIFIED:20250528T134114Z
UID:19058-1750932000-1750937400@www.its-uk.org
SUMMARY:Active Travel Forum
DESCRIPTION:How do we solve an issue like active travel data?\nOn Thursday 26 June\, from 10 to 11.30am\, the ITS UK Active Travel Forum will be holding a webinar focusing on how we solve challenges around data for active travel. \nThis webinar will focus on some of the opportunities and challenges with an excellent line-up of speakers from Active Travel England\, Transport for London\, See.Sense and Vivacity. \nIncreasingly\, the active travel industry needs to identify demand for infrastructure\, ensuring urban spaces are designed to support sustainable\, long-term growth in walking\, wheeling and cycling\, while protecting vulnerable road users; and evaluate the success of active travel schemes – understanding their real-world impact and informing their return on investment. \nYet\, a key challenge with these activities is the lack of high-quality\, in-depth data on active travel participation\, safety\, accessibility\, interactions between different types of road users and the impacts of infrastructure design on these factors. How do we ensure we have the right data\, at the right quality and have the means to use it to inform decisions? \nThis session will explore some of these challenges and a number of solutions that are being developed and implemented. Following presentations from our speakers\, there will be dedicated time to ask questions and share your thoughts. \nRegister Now \n\nAgenda\n10am | Welcome from Chair\nGeorge Beard\, Head of New Mobility\, TRL \n10.05am | Presentation title TBC\nMichael Barratt\, Construction Advisory & Innovations Manager\, Transport for London \n10.25am | Data challenges faced by local authorities and how Active Travel England is addressing them\nChris Stewart\, Director of Data and Analysis at Active Travel England \n10.45am | Data Insights to support infrastructure design and investment\nIrene McAleese\, Co-founder and CSO\, See.Sense \n11.00am | How AI powered sensors can deliver valuable insights on Active Travel\nShane Foley\, Head of Growth and Partnerships\, Vivacity \n11.15am | Q & A & Discussion \n11.30am | Close
URL:https://www.its-uk.org/event/active-travel-forum/
LOCATION:Online\, Online
ATTACH;FMTTYPE=image/jpeg:https://www.its-uk.org/wp-content/uploads/2024/11/Manc-bike-scaled.jpg
END:VEVENT
END:VCALENDAR