BEGIN:VCALENDAR
VERSION:2.0
PRODID:-//ITS UK - ECPv6.15.17//NONSGML v1.0//EN
CALSCALE:GREGORIAN
METHOD:PUBLISH
X-WR-CALNAME:ITS UK
X-ORIGINAL-URL:https://www.its-uk.org
X-WR-CALDESC:Events for ITS UK
REFRESH-INTERVAL;VALUE=DURATION:PT1H
X-Robots-Tag:noindex
X-PUBLISHED-TTL:PT1H
BEGIN:VTIMEZONE
TZID:Atlantic/South_Georgia
BEGIN:STANDARD
TZOFFSETFROM:-0200
TZOFFSETTO:-0200
TZNAME:-02
DTSTART:20240101T000000
END:STANDARD
END:VTIMEZONE
BEGIN:VEVENT
DTSTART;VALUE=DATE:20250824
DTEND;VALUE=DATE:20250829
DTSTAMP:20260422T183130
CREATED:20250602T180651Z
LAST-MODIFIED:20250602T181218Z
UID:19117-1755993600-1756425599@www.its-uk.org
SUMMARY:ITS World Congress in Atlanta
DESCRIPTION:British-based transport innovators are invited to join the UK-Europe Pavilion in Atlanta\, led by Transport for the West Midlands and Ertico! \nThe Pavilion will put the spotlight on the latest ITS products\, services and projects\, while making links between industry leaders\, public decision makers and investors. This is an unrivalled opportunity to join a major global event\, and become part of the road to Birmingham 2027. \n  \nAbout the ITS World Congress\, Atlanta\nTaking place from 24 to 28 August 2025 in Atlanta\, Georgia\, the ITS World Congress will focus on the theme of Deploying Today\, Empowering Tomorrow. \nThis global event brings together world leaders\, decision makers\, and their supporting teams from public and private sector transport agencies to gain critical knowledge about the implementation of new technologies and solutions that are essential for smarter transport systems. Find out more about the Congress here. \n  \nThe UK Pavilion\nThe Pavilion is being run by Transport for the West Midlands – to find out more about this opportunity\, please email Jordan Cowley\, Business Development Director\, at jordan.cowley@tfwm.org.uk. \nWhat’s included?\nYour pod\n– Branded with your logo\n– 32” monitor\n– Storage area \nVisibility and services\n– Your logo on the canopy\n– Your video on the shared screen\n– Networking and meeting space\n– Coffee bar and refreshment \nPromotion\n– Interview opportunities with industry media\n– Your brand to UK and ERTICO email lists\n– Online and social media promotion \nEvents\n– Present your product during a speaking slot on our stand\n– Audience tracking\, promotion\, and recording\n– Participate in UK-Europe Pavilion events\n– Option to host your own drinks or breakfast reception \n  \n\nDownload the Flyer\n 
URL:https://www.its-uk.org/event/its-world-congress-in-atlanta/
LOCATION:Georgia World Congress Center\, Georgia World Congress Center\, 285 Andrew Young International Boulvard North West\, Atlanta\, GA\, GA 30313\, United States
ATTACH;FMTTYPE=image/jpeg:https://www.its-uk.org/wp-content/uploads/2025/06/shutterstock_2515735357.jpg
END:VEVENT
END:VCALENDAR