BEGIN:VCALENDAR
VERSION:2.0
PRODID:-//ITS UK - ECPv6.15.17//NONSGML v1.0//EN
CALSCALE:GREGORIAN
METHOD:PUBLISH
X-ORIGINAL-URL:https://www.its-uk.org
X-WR-CALDESC:Events for ITS UK
REFRESH-INTERVAL;VALUE=DURATION:PT1H
X-Robots-Tag:noindex
X-PUBLISHED-TTL:PT1H
BEGIN:VTIMEZONE
TZID:Europe/London
BEGIN:DAYLIGHT
TZOFFSETFROM:+0000
TZOFFSETTO:+0100
TZNAME:BST
DTSTART:20240331T010000
END:DAYLIGHT
BEGIN:STANDARD
TZOFFSETFROM:+0100
TZOFFSETTO:+0000
TZNAME:GMT
DTSTART:20241027T010000
END:STANDARD
BEGIN:DAYLIGHT
TZOFFSETFROM:+0000
TZOFFSETTO:+0100
TZNAME:BST
DTSTART:20250330T010000
END:DAYLIGHT
BEGIN:STANDARD
TZOFFSETFROM:+0100
TZOFFSETTO:+0000
TZNAME:GMT
DTSTART:20251026T010000
END:STANDARD
BEGIN:DAYLIGHT
TZOFFSETFROM:+0000
TZOFFSETTO:+0100
TZNAME:BST
DTSTART:20260329T010000
END:DAYLIGHT
BEGIN:STANDARD
TZOFFSETFROM:+0100
TZOFFSETTO:+0000
TZNAME:GMT
DTSTART:20261025T010000
END:STANDARD
END:VTIMEZONE
BEGIN:VEVENT
DTSTART;VALUE=DATE:20250903
DTEND;VALUE=DATE:20250905
DTSTAMP:20260422T173056
CREATED:20250624T202327Z
LAST-MODIFIED:20250624T202754Z
UID:19656-1756857600-1757030399@www.its-uk.org
SUMMARY:Cenex Expo
DESCRIPTION:Cenex Expo is a single annual gathering point for the UK innovation community and those who work in low carbon and connected and automated mobility. The event provided a platform to meet UK decision makers and industry experts; the perfect opportunity to showcase your business\, your industry\, and your technology. \nThe event incorporates: \n\nTechnology exhibition split over multiple halls;\nExtensive seminar programme;\nNetworking Opportunities;\nRide & drive of the latest research & development vehicles.\n\nITS UK is a partner for this event and will be exhibiting at the Expo. Registration is free and open to all! \nRegister here\n 
URL:https://www.its-uk.org/event/cenex-expo/
LOCATION:UTAC Millbrook\, Station Lane\, Bedford\, MK45 2JQ
ATTACH;FMTTYPE=image/jpeg:https://www.its-uk.org/wp-content/uploads/2025/06/cenex.jpg
END:VEVENT
BEGIN:VEVENT
DTSTART;TZID=Europe/London:20250904T123000
DTEND;TZID=Europe/London:20250904T153000
DTSTAMP:20260422T173056
CREATED:20250730T101151Z
LAST-MODIFIED:20250903T095941Z
UID:20840-1756989000-1756999800@www.its-uk.org
SUMMARY:Executive Update (formerly Council)
DESCRIPTION:Join us for the next ITS UK Executive Update\, which will take place on the 4 September (12-3.30pm) at Glasgow City Council’s offices. \nFormally our Council Meetings\, the Executive Updates offer the opportunity for our Executive Members to hear from public sector organisations\, understand the latest updates across the sector\, and to feed into ITS UK’s strategy and direction. \nWe’ll be joined by key client bodies and set out progress made by ITS UK over the past few months. \nThere is an option to attend in person or online. \nTo register\, please email Rukshan Soysa at Rukshan.Soysa@its-uk.org \n\nAgenda\n12pm | Lunch \n1pm | Welcome and introductions  \n1.05pm | Keynotes  \n\nGlasgow City Council – Nicola Bell\, Group Manager\, Traffic and Road Safety\nTransport Scotland – Stephen Davies\, National Operations Manager\n\n1.30pm | Key Industry Updates and from the Nations & Regions  \n\nInstitute of Highways Engineers (IHE) – Martin Polland\, Past President of IHE\nConnected Places Catapult – Marcel Pooke\, Head of Highways Delivery (virtual)\nTransport for Greater Manchester – Hannah Tune (virtual)\nTransport for West Midlands – Mark Collins\, Head of Future Transport (virtual)\nSatellite Applications Catapult – Aswheeni Beeharee\, Head of Ubiquitous Connectivity (virtual)\nMartine Harvey\, Innovation Lead – Digital Transport\, Innovate UK (virtual)\n\n2.15pm I New Executive Members Spotlight \n\nSAM Applications – Andrew Seedhouse\, Chairman\nCapita – Adam Searle\, Chief Technology Officer\nAtos – Karl Hitschmann\, Director Business Development- Retail\, Transport & Logistics\n\n2.30pm | BREAK  \n2.45pm | ITS UK Update \n2.55pm | AOB \n3pm | Close \n3.15pm | Control Centre Tour  \n  \nPlease note\, from July 2025\, ITS UK’s Council Meetings are now Executive Updates\, reflecting the wider nature of attendance at these events. These meetings will still follow the same format\, with industry updates from key clients\, followed up an opportunity to feed into ITS UK’s strategy.
URL:https://www.its-uk.org/event/executive-update-formerly-council/
LOCATION:Glasgow City Council\, Eastgate Building 727 London Road Glasgow\,\, Glasgow\, G40 3AQ
ATTACH;FMTTYPE=image/jpeg:https://www.its-uk.org/wp-content/uploads/2025/07/shutterstock_2504098801-2-scaled.jpg
ORGANIZER;CN="Rukshan Soysa":MAILTO:rukshan.soysa@its-uk.org
END:VEVENT
END:VCALENDAR