BEGIN:VCALENDAR
VERSION:2.0
PRODID:-//ITS UK - ECPv6.15.17//NONSGML v1.0//EN
CALSCALE:GREGORIAN
METHOD:PUBLISH
X-ORIGINAL-URL:https://www.its-uk.org
X-WR-CALDESC:Events for ITS UK
REFRESH-INTERVAL;VALUE=DURATION:PT1H
X-Robots-Tag:noindex
X-PUBLISHED-TTL:PT1H
BEGIN:VTIMEZONE
TZID:Europe/London
BEGIN:DAYLIGHT
TZOFFSETFROM:+0000
TZOFFSETTO:+0100
TZNAME:BST
DTSTART:20240331T010000
END:DAYLIGHT
BEGIN:STANDARD
TZOFFSETFROM:+0100
TZOFFSETTO:+0000
TZNAME:GMT
DTSTART:20241027T010000
END:STANDARD
BEGIN:DAYLIGHT
TZOFFSETFROM:+0000
TZOFFSETTO:+0100
TZNAME:BST
DTSTART:20250330T010000
END:DAYLIGHT
BEGIN:STANDARD
TZOFFSETFROM:+0100
TZOFFSETTO:+0000
TZNAME:GMT
DTSTART:20251026T010000
END:STANDARD
BEGIN:DAYLIGHT
TZOFFSETFROM:+0000
TZOFFSETTO:+0100
TZNAME:BST
DTSTART:20260329T010000
END:DAYLIGHT
BEGIN:STANDARD
TZOFFSETFROM:+0100
TZOFFSETTO:+0000
TZNAME:GMT
DTSTART:20261025T010000
END:STANDARD
END:VTIMEZONE
BEGIN:VEVENT
DTSTART;TZID=Europe/London:20251009T120000
DTEND;TZID=Europe/London:20251009T160000
DTSTAMP:20260422T162834
CREATED:20250822T102607Z
LAST-MODIFIED:20250925T084225Z
UID:21150-1760011200-1760025600@www.its-uk.org
SUMMARY:Road User Charging Forum
DESCRIPTION:Join us for a Road User Charging Forum meeting discussing some of the key challenges and opportunities around road user charging\, both here in the UK and overseas. \nTaking place on 9 October at 12pm\, the Road User Charging Forum will look at the topic of ‘Road Pricing: At Home\, Abroad and in the Future’\, discussing some of the key opportunities and challenges around implementing schemes\, both here in the UK and overseas.   \nWe will hear from New Zealand Transport Minister Hon Chris Bishop\, who will give a keynote exploring the steps New Zealand is taking to replace petrol taxes with electronic road user charges. His speech will be followed by presentations covering current innovations in the UK and abroad\, including London’s ULEZ\, M6 Toll\, in Holland\, Norway and elsewhere. \nIn this session we will be hearing the latest from across the UK industry on these schemes as well as some key updates from overseas.  We will then look ahead to what the future could have in store for road pricing\, too\, demonstrating a new tool being developed by ITS UK and Kainos. \nMeeting at the Arup offices in London\, on 9th October from 12 noon to 4pm this will no doubt be a very topical session. \nRegister here\nKeynote\nHon Chris Bishop\, Minister of Transport\, New Zealand Government \nHon Chris Bishop is the Minister of Housing\, Minister for Infrastructure\, Minister Responsible for RMA Reform\, Minister of Transport\, Associate Minister for Sport and Recreation\, Associate Minister of Finance\, Leader of the House and he is the MP for Hutt South. \nChris was born and raised in Lower Hutt\, Wellington where he lives with his wife and two children. He has a first-class Honours degree in Law and a Bachelor of Arts from Victoria University of Wellington\, and was the 2006 Young Wellingtonian of the Year. \nBefore serving as an MP\, Chris worked as a researcher for the National Party in Opposition and was later an advisor to Ministers in the John Key-led Government. \nChris was the National Party Campaign Chair for the 2023 General Election. \n  \n\nAgenda\n12:00 Welcome and Lunch \n1pm Forum begins \nKeynote \nHon Chris Bishop\, New Zealand Minister of Transport  \nAt Home: Road Pricing in the UK  \n– Aspirations for free flow tolling and the future of Road User Charging\nMichael Whelan\, CEO\, M6 Toll \n– Transport for London ULEZ and Congestion Charge Update\nAdam Searle\, Chief Technology Officer\, Capita \n– Bringing people with you: Lessons from stakeholder engagement in Cambridge and London\nJo Field\, Founder & Chief Executive\, JFG Communications \nAbroad: Road Pricing Overseas \n– Distance-based truck tolling – delivering the Dutch emission reduction objectives from 2026\nTrevor Ellis on behalf of Arup \n– Road User Charging with Innovation – a development story\nEddie Broadley\, SICE UK\n \n– Tolling in Norway – On the Road to RUC\nLuis Miranda\, Q-free \nIn the Future: What lies ahead for road pricing \n– A new tool for demonstrating the need for national road pricing\nRepresentatives from ITS UK and Kainos \n4pm Event Close
URL:https://www.its-uk.org/event/road-user-charging-forum-3/
LOCATION:Arup 8 Fitzroy St London W1T 4BJ
ATTACH;FMTTYPE=image/jpeg:https://www.its-uk.org/wp-content/uploads/2025/08/richard-horne-AwkDru_0tQw-unsplash-scaled.jpg
END:VEVENT
END:VCALENDAR