BEGIN:VCALENDAR
VERSION:2.0
PRODID:-//ITS UK - ECPv6.15.17//NONSGML v1.0//EN
CALSCALE:GREGORIAN
METHOD:PUBLISH
X-WR-CALNAME:ITS UK
X-ORIGINAL-URL:https://www.its-uk.org
X-WR-CALDESC:Events for ITS UK
REFRESH-INTERVAL;VALUE=DURATION:PT1H
X-Robots-Tag:noindex
X-PUBLISHED-TTL:PT1H
BEGIN:VTIMEZONE
TZID:Europe/London
BEGIN:DAYLIGHT
TZOFFSETFROM:+0000
TZOFFSETTO:+0100
TZNAME:BST
DTSTART:20250330T010000
END:DAYLIGHT
BEGIN:STANDARD
TZOFFSETFROM:+0100
TZOFFSETTO:+0000
TZNAME:GMT
DTSTART:20251026T010000
END:STANDARD
BEGIN:DAYLIGHT
TZOFFSETFROM:+0000
TZOFFSETTO:+0100
TZNAME:BST
DTSTART:20260329T010000
END:DAYLIGHT
BEGIN:STANDARD
TZOFFSETFROM:+0100
TZOFFSETTO:+0000
TZNAME:GMT
DTSTART:20261025T010000
END:STANDARD
BEGIN:DAYLIGHT
TZOFFSETFROM:+0000
TZOFFSETTO:+0100
TZNAME:BST
DTSTART:20270328T010000
END:DAYLIGHT
BEGIN:STANDARD
TZOFFSETFROM:+0100
TZOFFSETTO:+0000
TZNAME:GMT
DTSTART:20271031T010000
END:STANDARD
END:VTIMEZONE
BEGIN:VEVENT
DTSTART;TZID=Europe/London:20260114T183000
DTEND;TZID=Europe/London:20260114T220000
DTSTAMP:20260422T120608
CREATED:20251210T134230Z
LAST-MODIFIED:20251210T134634Z
UID:22898-1768415400-1768428000@www.its-uk.org
SUMMARY:Executive Dinner with Toufic Machnouk
DESCRIPTION:Join us for the first Executive Dinner of 2026\, with Toufic Machnouk of Great British Railways X \n\nITS UK’s Executive Dinners are a series of events\, exclusively for our Executive Membership\, where we invite you to meet with senior decision makers and policy leaders across the transport and technology sectors to discuss key issues in an intimate setting. \nOn 14 January\, we will be holding our first Executive Dinner of the year with Toufic Machnouk\, Managing Director of Great British Railways X (GBRX)\, the new innovation agency for the railway sector. Set up over the last two years\, GBRX is working to advance the adoption of innovative technology across track and train\, improving how the railway works for people and developing the skills for a more sustainable future. \nToufic will speak about his vision for the railways\, how AI and the better use of data can support a more effective system and how the industry can enable a more joined up and efficient transport network through technology. \nPlease note\, this event is open to one representative per Executive Member\, on a first come\, first served basis. If you are an Executive Member\, the main contact within your organisation will be emailed with an invitation. If you are not sure who your main contact is\, please email us at contact@its-uk.org  \nWith thanks to our sponsors:  \n \n\n\n  \n\n\nSpeaker\nToufic Machnouk\nManaging Director\, GBRX \nToufic Machnouk is managing director of GBRX\, the strategic innovation body established to pioneer breakthrough technologies and innovations that solve some of the sectors most intractable modernisation challenges. Prior to this\, he created and led the industry partnership for digital railway\, where he mobilised the largest strategic partnership in the sector to deliver a multi-billion pound investment portfolio. \n 
URL:https://www.its-uk.org/event/executive-dinner-with-toufic-machnouk/
LOCATION:De Vere Grand Connaught Rooms\, 61-65 Great Queen Street\, London\, WC2B 5DA\, United Kingdom
ATTACH;FMTTYPE=image/jpeg:https://www.its-uk.org/wp-content/uploads/2025/06/shutterstock_2261434181.jpg
END:VEVENT
END:VCALENDAR