BEGIN:VCALENDAR
VERSION:2.0
PRODID:-//ITS UK - ECPv6.15.17//NONSGML v1.0//EN
CALSCALE:GREGORIAN
METHOD:PUBLISH
X-ORIGINAL-URL:https://www.its-uk.org
X-WR-CALDESC:Events for ITS UK
REFRESH-INTERVAL;VALUE=DURATION:PT1H
X-Robots-Tag:noindex
X-PUBLISHED-TTL:PT1H
BEGIN:VTIMEZONE
TZID:Europe/London
BEGIN:DAYLIGHT
TZOFFSETFROM:+0000
TZOFFSETTO:+0100
TZNAME:BST
DTSTART:20230326T010000
END:DAYLIGHT
BEGIN:STANDARD
TZOFFSETFROM:+0100
TZOFFSETTO:+0000
TZNAME:GMT
DTSTART:20231029T010000
END:STANDARD
BEGIN:DAYLIGHT
TZOFFSETFROM:+0000
TZOFFSETTO:+0100
TZNAME:BST
DTSTART:20240331T010000
END:DAYLIGHT
BEGIN:STANDARD
TZOFFSETFROM:+0100
TZOFFSETTO:+0000
TZNAME:GMT
DTSTART:20241027T010000
END:STANDARD
BEGIN:DAYLIGHT
TZOFFSETFROM:+0000
TZOFFSETTO:+0100
TZNAME:BST
DTSTART:20250330T010000
END:DAYLIGHT
BEGIN:STANDARD
TZOFFSETFROM:+0100
TZOFFSETTO:+0000
TZNAME:GMT
DTSTART:20251026T010000
END:STANDARD
END:VTIMEZONE
BEGIN:VEVENT
DTSTART;TZID=Europe/London:20240304T110000
DTEND;TZID=Europe/London:20240304T123000
DTSTAMP:20260423T084548
CREATED:20240209T111833Z
LAST-MODIFIED:20240301T134509Z
UID:5836-1709550000-1709555400@www.its-uk.org
SUMMARY:Public Transport Forum
DESCRIPTION:Our next Public Transport Forum will be taking place on the 4 March (11-12.30pm)\, where we will have a keynote presentation from Transport for Greater Manchester\, covering the integration of the Bee Network from Nick Fairclough (bio below). \nWe will also be featuring three ITS UK Members that were shortlisted for the 2023 ITS UK Public Transport Award\, outlining their respective projects and giving us an update on their progress. \nAgenda\nKeynote Presentation: Transport for Greater Manchester: Delivering the integration of the bus network – Nick Fairclough\, Senior Policy Manager\, Transport for Greater Manchester \nAward Shortlist Presentations: \n– Sofia Ticketing System (STS)\, an account based ticketing system/platform – Matt Kendrick\, Business Development Partner\, Theoremus \n– Helsinki Metro 5G Pilot – Dr Dimitris Kaltakis\, Technical Director\, WSP \n– Go Ahead – Using People Movement data to increase bus use in Plymouth – Chris Bax\, Associate Director\, Amey \nREGISTER NOW \nKeynote Speaker\n \nNick Fairclough is the Senior Policy Manager at Transport for Greater Manchester (TfGM)\, working to support development and delivery of the Bee Network\, the city region’s new integrated public transport system. \nMost recently\, Nick led development of the city region’s ambitious Bus Strategy\, which set out how Greater Manchester intends to improve and grow its bus system using the powers afforded by bus franchising. \nDuring his eight years of policy work for Greater Manchester\, Nick has also been involved in the development of a refreshed active travel mission\, the Greater Manchester Good Employment Charter and is currently working with colleagues to develop the city region’s next Local Transport Plan.
URL:https://www.its-uk.org/event/public-transport-forum-meeting/
LOCATION:Online\, Online
ATTACH;FMTTYPE=image/jpeg:https://www.its-uk.org/wp-content/uploads/2023/09/yellow-bus.jpg
END:VEVENT
BEGIN:VEVENT
DTSTART;VALUE=DATE:20240305
DTEND;VALUE=DATE:20240307
DTSTAMP:20260423T084548
CREATED:20231218T092614Z
LAST-MODIFIED:20231221T085124Z
UID:5361-1709596800-1709769599@www.its-uk.org
SUMMARY:Transport Ticketing Global 2024
DESCRIPTION:ITS UK is a partner organisation for Transport Ticketing Global\, which returns on 5-6 March 2024. \nThis the the world’s largest public transport forum event for smart ticketing & mobility professionals. \nRegistration is now open so make sure you reserve your place. \nThis year’s conference delves into pivotal industry challenges and opportunities surrounding AI & biometrics in transport\, rail distribution\, account-based ticketing\, mobile ticketing\, cybersecurity and much more! Through in-depth case studies\, interactive panels and dynamic roundtable discussions\, you can glean actionable insights and advice to transform your strategies. View the full conference agenda here. \nRegister Now 
URL:https://www.its-uk.org/event/transport-ticketing-global-2024/
LOCATION:Olympia London\, Hammersmith Rd\, London\, London\, W14 8UX
CATEGORIES:Partner Event
ATTACH;FMTTYPE=image/jpeg:https://www.its-uk.org/wp-content/uploads/2023/12/TTG23-scaled.jpg
END:VEVENT
BEGIN:VEVENT
DTSTART;TZID=Europe/London:20240307T140000
DTEND;TZID=Europe/London:20240307T153000
DTSTAMP:20260423T084548
CREATED:20240209T111526Z
LAST-MODIFIED:20240229T173611Z
UID:5834-1709820000-1709825400@www.its-uk.org
SUMMARY:Women in ITS Forum
DESCRIPTION:The ITS UK Women in ITS Forum is holding their annual International Women’s Day event this year\, as a webinar on Thursday 7 March (2pm – 3.30pm GMT). \nIn this session\, we will be having an international theme featuring speakers from WSP\, Arcadis and 4 Way Consulting. \n  \nAgenda \nIntroductions from WITS Forum Chair\, Gemma Tredwell\, Arcadis \nMoving towards Cleaner Mobility – An Overview of the National Electric Vehicle Formula Program and Deployment Challenges – Laura Hartley\, Principal Transportation Engineer\, Arcadis (USA) \nUsing Floating Vehicle Data to Assist Planning of TM Strategies and Monitoring Disruption from Roadworks – Jason Loader\, Future Mobility Discipline Lead\, 4way Consulting \nConnected Site applications – Cormac Browne\, Principal Consultant\, Intelligent Infrastructure\, WSP  \nDiscussion \nWe encourage you to think about the following – \n\nA reflection on something you would do differently to last year\nA highlight of 2023\nAn ambition for 2024 – can be personal or work related\n\n  \nThis meeting is open and available for anyone to attend. \nREGISTER NOW
URL:https://www.its-uk.org/event/women-in-its-forum-meeting-2/
LOCATION:Online\, Online
ATTACH;FMTTYPE=image/jpeg:https://www.its-uk.org/wp-content/uploads/2023/06/cowomen-ZKHksse8tUU-unsplash-scaled.jpg
END:VEVENT
BEGIN:VEVENT
DTSTART;TZID=Europe/London:20240312T110000
DTEND;TZID=Europe/London:20240312T120000
DTSTAMP:20260423T084548
CREATED:20240223T154524Z
LAST-MODIFIED:20240223T154524Z
UID:6106-1710241200-1710244800@www.its-uk.org
SUMMARY:Make the Most of your Membership
DESCRIPTION:Join ITS UK for an overview of the opportunities and benefits of membership at this one hour webinar on 12th March. Whether you’re a seasoned ITS UK member\, or new to the organisation\, this session will run through the member services we provide and will look at practical steps you can take to make the most of your membership\, such as accessing the Members Area\, signing up to mailings and events\, and how to use ITS UK to promote your news and updates. \nThere will also be the opportunity to ask questions and have your queries answered by the ITS UK team. \nAgenda \n11am Overview of ITS UK\, its aims and objectives \nMax Sugarman\, Chief Executive \n11.10am Member Services\, Members Area and News Service \nPriscilla Ross\, Membership Executive \n11.20am Events\, Export Promotion and Forums \nRukshan Soysa\, Operations Manager \n11.30am Q&A \n12pm End
URL:https://www.its-uk.org/event/make-the-most-of-your-membership/
LOCATION:Online\, Online
ATTACH;FMTTYPE=image/jpeg:https://www.its-uk.org/wp-content/uploads/2024/02/Team-working-scaled.jpg
END:VEVENT
BEGIN:VEVENT
DTSTART;TZID=Europe/London:20240313T143000
DTEND;TZID=Europe/London:20240313T153000
DTSTAMP:20260423T084548
CREATED:20240130T150525Z
LAST-MODIFIED:20240202T145843Z
UID:5761-1710340200-1710343800@www.its-uk.org
SUMMARY:Horizon Europe for ITS
DESCRIPTION:A special webinar on Horizon Europe specifically for ITS UK Members.\n\nThe EU allocated €1.5Bn to Horizon Europe transport projects in 2021-2022\, and over 50% of these have UK partners already. \nJoin us to find out to be fully up to speed on the opportunities relevant and beneficial for you. \nLouise Mothersole who is the Horizon Europe UK National Contact Point for Mobility will taking us through the opportunities and providing the relevant findings and updates. \nLouise is the Global Innovation Lead for Transport at Innovate UK. \nREGISTER NOW
URL:https://www.its-uk.org/event/horizon-europe-for-its-uk/
LOCATION:Online\, Online
ATTACH;FMTTYPE=image/jpeg:https://www.its-uk.org/wp-content/uploads/2024/01/nasa-Q1p7bh3SHj8-unsplash-1-scaled.jpg
END:VEVENT
BEGIN:VEVENT
DTSTART;TZID=Europe/London:20240319T120000
DTEND;TZID=Europe/London:20240319T160000
DTSTAMP:20260423T084548
CREATED:20240221T115313Z
LAST-MODIFIED:20240313T123233Z
UID:6015-1710849600-1710864000@www.its-uk.org
SUMMARY:Freight Forum
DESCRIPTION:The next Freight Forum meeting will be exploring the use of robotics and new technology in the freight sector. \nTaking place in Milton Keynes at Clearview on the 19 March (12-4pm)\, we will hear from speakers from Milton Keynes Council\, Connected Places Catapult and Clearview Intelligence. \nOur keynote presentation will be from Cllr Shanika Mahendran\, who is Labour & Co-operative Councillor for Loughton & Shenley on their smart city activity\, which includes the trailing of delivery robots and a range of other autonomous technologies. \nAlso\, Geoff Clarke\, Chair of the Freight Forum will look back on his 25 years running the Forum and gives us his thoughts for the future of the freight industry\, as he steps down from the role. \nJoin us for Geoff’s last session as Chair\, which will look back at what the industry has achieved and at future innovations coming down the road. \n  \nAgenda \n– Welcome – Geoff Clarke\, AECOM and ITS UK Freight Forum Chair \n– Introduction – Stuart Lloyd\, External Sales Consultant\, Clearview Intelligence \n– Keynote Presentation – Robotics and innovation in Milton Keynes – Cllr Shanika Mahendran\, Labour & Co-operative Councillor for Loughton & Shenley \n– Innovation and use of technology on the road network – Peter Cattell\, Head of Technical Sales\, Clearview Intelligence \n– Driving innovation in Freight and Logistics: the Freight Innovation cluster – Francesca Caramelle-Ngoma\, Connected Places Catapult \n– 25 years of showcasing innovation by the ITS UK Freight Forum (1988-2023) – Reflection piece from Geoff Clarke\, looking back and forward \n– Discussion: What does the future hold for Freight and ITS? \n  \nREGISTER NOW \n 
URL:https://www.its-uk.org/event/freight-forum-meeting-2/
LOCATION:Clearview Intelligence Aurora House\, Deltic Ave\, Rooksley Roundabout\, Bradwell Common\, Milton Keynes MK13 8LW\, MK13 8LW
ATTACH;FMTTYPE=image/jpeg:https://www.its-uk.org/wp-content/uploads/2024/02/Freight-scaled.jpg
END:VEVENT
BEGIN:VEVENT
DTSTART;VALUE=DATE:20240320
DTEND;VALUE=DATE:20240322
DTSTAMP:20260423T084548
CREATED:20231130T102202Z
LAST-MODIFIED:20240121T145912Z
UID:5181-1710892800-1711065599@www.its-uk.org
SUMMARY:Connected Places Summit
DESCRIPTION:Connected Places Catapult are hosting a two day summit of interactive content\, live project showcases\, inspiring thought leadership and opportunities to connect with peers from technology\, transport\, mobility\, cities\, academia\, and Government. \n\n\nThe Connected Places Summit will harness the collective ingenuity\, innovation\, and collaboration of our community to innovate together – as for innovation to flourish you need to be connected. \nITS UK are proud supporters of this event. \nYou can find out more information and how to register your place on their website here. \nA full agenda is also available to view.
URL:https://www.its-uk.org/event/connected-places-summit-2024/
LOCATION:London\, London
ATTACH;FMTTYPE=image/jpeg:https://www.its-uk.org/wp-content/uploads/2023/11/headway-F2KRf_QfCqw-unsplash-scaled.jpg
END:VEVENT
END:VCALENDAR