BEGIN:VCALENDAR
VERSION:2.0
PRODID:-//ITS UK - ECPv6.15.17//NONSGML v1.0//EN
CALSCALE:GREGORIAN
METHOD:PUBLISH
X-WR-CALNAME:ITS UK
X-ORIGINAL-URL:https://www.its-uk.org
X-WR-CALDESC:Events for ITS UK
REFRESH-INTERVAL;VALUE=DURATION:PT1H
X-Robots-Tag:noindex
X-PUBLISHED-TTL:PT1H
BEGIN:VTIMEZONE
TZID:Europe/London
BEGIN:DAYLIGHT
TZOFFSETFROM:+0000
TZOFFSETTO:+0100
TZNAME:BST
DTSTART:20230326T010000
END:DAYLIGHT
BEGIN:STANDARD
TZOFFSETFROM:+0100
TZOFFSETTO:+0000
TZNAME:GMT
DTSTART:20231029T010000
END:STANDARD
BEGIN:DAYLIGHT
TZOFFSETFROM:+0000
TZOFFSETTO:+0100
TZNAME:BST
DTSTART:20240331T010000
END:DAYLIGHT
BEGIN:STANDARD
TZOFFSETFROM:+0100
TZOFFSETTO:+0000
TZNAME:GMT
DTSTART:20241027T010000
END:STANDARD
BEGIN:DAYLIGHT
TZOFFSETFROM:+0000
TZOFFSETTO:+0100
TZNAME:BST
DTSTART:20250330T010000
END:DAYLIGHT
BEGIN:STANDARD
TZOFFSETFROM:+0100
TZOFFSETTO:+0000
TZNAME:GMT
DTSTART:20251026T010000
END:STANDARD
END:VTIMEZONE
BEGIN:VEVENT
DTSTART;TZID=Europe/London:20240410T120000
DTEND;TZID=Europe/London:20240410T163000
DTSTAMP:20260423T075623
CREATED:20240313T095326Z
LAST-MODIFIED:20240313T095326Z
UID:6356-1712750400-1712766600@www.its-uk.org
SUMMARY:Council Meeting
DESCRIPTION:The second ITS UK Council meeting of the year is set to take place on the 10th April at Egis’ offices in London. \nThe ITS UK Council meetings provide the opportunity to hear and influence the direction of ITS UK’s strategic direction as well as to hear from a senior industry speaker on a key issue of the day. \nOur Council meetings take place quarterly and attendance is open to Executive Members only.  If you would like to register for the meeting please get in touch with Rukshan Soysa\, Operations Manager at ITS UK\, at rukshan.soysa@its-uk.org \nA full agenda will be confirmed and available shortly.
URL:https://www.its-uk.org/event/council-meeting-3/
LOCATION:3 Valentine Place Southwark London\, SE1 8QH United Kingdom\, London\, SE1 8QH
ATTACH;FMTTYPE=image/jpeg:https://www.its-uk.org/wp-content/uploads/2023/12/benjamin-child-GWe0dlVD9e0-unsplash-scaled.jpg
END:VEVENT
BEGIN:VEVENT
DTSTART;TZID=Europe/London:20240424T130000
DTEND;TZID=Europe/London:20240424T143000
DTSTAMP:20260423T075623
CREATED:20240322T164906Z
LAST-MODIFIED:20240423T092001Z
UID:6497-1713963600-1713969000@www.its-uk.org
SUMMARY:Inclusive Mobility Forum
DESCRIPTION:The Inclusive Mobility Forum will be running an online session on the 24 April around the role technology in delivering last mile services\, including in the area of taxis and demand responsive transport.\n\n\nFeaturing three varied speakers\, including East West Rail\, in this 90 minute session we will cover some interesting areas concerning the role of transport technology in making journeys as inclusive as possible.\n\n\nAgenda\n– The potential of Demand Responsive Transport to improve accessibility in rural areas\, Beate Kubitz\, Beate Kubitz Associates Ltd \n– The last mile: what can be done to improve accessibility to the rail system\, Robbie Gibb Customer Service Executive\, East West Rail \n– Is there a future for taxis in providing accessibility in rural areas?  Dr Mike Galvin\, Mobility Services Ltd \nDiscussion led by Kris Beuret\, Forum Chair \n\nRegister here
URL:https://www.its-uk.org/event/inclusive-mobility-forum-2/
LOCATION:Online\, Online
ATTACH;FMTTYPE=image/jpeg:https://www.its-uk.org/wp-content/uploads/2024/03/shutterstock_1446677129-scaled.jpg
END:VEVENT
END:VCALENDAR