BEGIN:VCALENDAR
VERSION:2.0
PRODID:-//ITS UK - ECPv6.15.17//NONSGML v1.0//EN
CALSCALE:GREGORIAN
METHOD:PUBLISH
X-ORIGINAL-URL:https://www.its-uk.org
X-WR-CALDESC:Events for ITS UK
REFRESH-INTERVAL;VALUE=DURATION:PT1H
X-Robots-Tag:noindex
X-PUBLISHED-TTL:PT1H
BEGIN:VTIMEZONE
TZID:Europe/London
BEGIN:DAYLIGHT
TZOFFSETFROM:+0000
TZOFFSETTO:+0100
TZNAME:BST
DTSTART:20230326T010000
END:DAYLIGHT
BEGIN:STANDARD
TZOFFSETFROM:+0100
TZOFFSETTO:+0000
TZNAME:GMT
DTSTART:20231029T010000
END:STANDARD
BEGIN:DAYLIGHT
TZOFFSETFROM:+0000
TZOFFSETTO:+0100
TZNAME:BST
DTSTART:20240331T010000
END:DAYLIGHT
BEGIN:STANDARD
TZOFFSETFROM:+0100
TZOFFSETTO:+0000
TZNAME:GMT
DTSTART:20241027T010000
END:STANDARD
BEGIN:DAYLIGHT
TZOFFSETFROM:+0000
TZOFFSETTO:+0100
TZNAME:BST
DTSTART:20250330T010000
END:DAYLIGHT
BEGIN:STANDARD
TZOFFSETFROM:+0100
TZOFFSETTO:+0000
TZNAME:GMT
DTSTART:20251026T010000
END:STANDARD
END:VTIMEZONE
BEGIN:VEVENT
DTSTART;TZID=Europe/London:20240806T140000
DTEND;TZID=Europe/London:20240806T150000
DTSTAMP:20260423T045648
CREATED:20240718T094135Z
LAST-MODIFIED:20240718T094631Z
UID:8399-1722952800-1722956400@www.its-uk.org
SUMMARY:Home Office Type Approval Update
DESCRIPTION:In January\, the Home Office held a Call for Evidence to review the Home Office Type Approval process for enforcement technology. \nThe Call for Evidence\, which published its findings in April\, seeks to inform a programme of work to review current approaches and implement a more cost-effective and resilient operating model that fosters innovation and delivers robust assurance of equipment. The Call for Evidence summary document can be found here. \nThis webinar will seek to build on the findings of the Call for Evidence\, with the Home Office updating participants on the next steps of the review and seeking to gather views on these next steps from the industry. The webinar will focus on: \n\nProviding a readout from the Call for Evidence\nSetting out the improvements process\, including both short and longer term changes\nA Q&A session for industry to provide their views.\n\nThis webinar is being run by ITS UK on behalf of the enforcement technology community. It is open to all – you do not need to be an ITS UK member to attend. \nRegister to attend here
URL:https://www.its-uk.org/event/home-office-type-approval-update/
LOCATION:Online\, Online
ATTACH;FMTTYPE=image/jpeg:https://www.its-uk.org/wp-content/uploads/2024/07/shutterstock_1310214628-scaled.jpg
END:VEVENT
END:VCALENDAR