BEGIN:VCALENDAR
VERSION:2.0
PRODID:-//ITS UK - ECPv6.15.17//NONSGML v1.0//EN
CALSCALE:GREGORIAN
METHOD:PUBLISH
X-ORIGINAL-URL:https://www.its-uk.org
X-WR-CALDESC:Events for ITS UK
REFRESH-INTERVAL;VALUE=DURATION:PT1H
X-Robots-Tag:noindex
X-PUBLISHED-TTL:PT1H
BEGIN:VTIMEZONE
TZID:Europe/London
BEGIN:DAYLIGHT
TZOFFSETFROM:+0000
TZOFFSETTO:+0100
TZNAME:BST
DTSTART:20230326T010000
END:DAYLIGHT
BEGIN:STANDARD
TZOFFSETFROM:+0100
TZOFFSETTO:+0000
TZNAME:GMT
DTSTART:20231029T010000
END:STANDARD
BEGIN:DAYLIGHT
TZOFFSETFROM:+0000
TZOFFSETTO:+0100
TZNAME:BST
DTSTART:20240331T010000
END:DAYLIGHT
BEGIN:STANDARD
TZOFFSETFROM:+0100
TZOFFSETTO:+0000
TZNAME:GMT
DTSTART:20241027T010000
END:STANDARD
BEGIN:DAYLIGHT
TZOFFSETFROM:+0000
TZOFFSETTO:+0100
TZNAME:BST
DTSTART:20250330T010000
END:DAYLIGHT
BEGIN:STANDARD
TZOFFSETFROM:+0100
TZOFFSETTO:+0000
TZNAME:GMT
DTSTART:20251026T010000
END:STANDARD
END:VTIMEZONE
BEGIN:VTIMEZONE
TZID:Asia/Dubai
BEGIN:STANDARD
TZOFFSETFROM:+0400
TZOFFSETTO:+0400
TZNAME:+04
DTSTART:20230101T000000
END:STANDARD
END:VTIMEZONE
BEGIN:VEVENT
DTSTART;TZID=Europe/London:20240903T120000
DTEND;TZID=Europe/London:20240903T150000
DTSTAMP:20260423T041139
CREATED:20240718T080146Z
LAST-MODIFIED:20240729T133925Z
UID:8386-1725364800-1725375600@www.its-uk.org
SUMMARY:Delivering Commercial Value Through Procurement Roundtable
DESCRIPTION:This roundtable is the second in a series exploring how procurement can best be supported in the transport technology industry\, organised by ITS UK in partnership with the Crown Commercial Service. The roundtable will explore how commerical value can be delivered through procurement. \nFurther details will be provided shortly. To register your interest\, please email contact@its-uk.org.
URL:https://www.its-uk.org/event/delivering-commercial-value-through-procurement-roundtable/
LOCATION:West Midlands Combined Authority\, 10 Summer Lane\, Birmingham\, B19 3SD
ATTACH;FMTTYPE=image/jpeg:https://www.its-uk.org/wp-content/uploads/2024/02/Team-working-scaled.jpg
END:VEVENT
BEGIN:VEVENT
DTSTART;TZID=Europe/London:20240904T130000
DTEND;TZID=Europe/London:20240904T160000
DTSTAMP:20260423T041139
CREATED:20240702T103349Z
LAST-MODIFIED:20240702T133627Z
UID:8091-1725454800-1725465600@www.its-uk.org
SUMMARY:Parliamentary Reception
DESCRIPTION:Join Intelligent Transport Systems UK for our annual Parliamentary Reception taking place on 4 September in the Terrace Pavilion of the House of Commons from 1 to 4pm. \nWith the General Election on 4 July\, the Reception will provide a great first opportunity to meet with new Ministers and MPs\, as well as colleagues\, policy makers\, stakeholders and industry leaders from the transport technology sector. \nWe will confirm shortly speakers for the event\, with the Transport Minister\, Shadow Minister and Party Spokespeople to be invited to take part. \nWith high demand expected\, please register soon to secure a place using the button below. \nFurther information will be provided in due course and registered attendees will be sent a formal Parliamentary invitation a week ahead of the event. \nThis event is kindly supported by Mobius Networks. \n \n  \nRegister here
URL:https://www.its-uk.org/event/parliamentary-reception/
LOCATION:Parliament\, House of Commons\, Westminster\, London\, SW1A 0AA\, United Kingdom
ATTACH;FMTTYPE=image/jpeg:https://www.its-uk.org/wp-content/uploads/2024/07/shutterstock_1931210165-2.jpg
END:VEVENT
BEGIN:VEVENT
DTSTART;TZID=Europe/London:20240909T100000
DTEND;TZID=Europe/London:20240909T120000
DTSTAMP:20260423T041139
CREATED:20240801T155628Z
LAST-MODIFIED:20240807T112506Z
UID:8636-1725876000-1725883200@www.its-uk.org
SUMMARY:Advocacy and Public Affairs Group
DESCRIPTION:The Group provides the opportunity for attendees to hear from a key speakers in covering policy or comms in the sector\, followed by an update on ITS UK’s Advocacy & Public Affairs Plan. \nThis APAG will be the first since the General Election in July\, and will provide ITS UK members the chance to input into our engagement activity with the new Government and Parliament. We will also be joined by National Highways Public Affairs team who will update us on their activity ahead of RIS3 and by Local Government Association (LGA) Transport Policy Adviser\, Simon Jeffrey. \nAgenda\n10:00am            Opening Remarks & Introductions\, Colin Wilson\, ITS UK Advocacy and Public Affairs Group Chair \n10:10am             National Highways Update\, Public Affairs Team \n10:40am            Engaging with Local Government\, Simon Jeffrey\, Transport Policy Adviser\, Local Government Association \n11:10am             ITS UK Public Affairs Strategy\, Eduardo Pitts\, Public Affairs & PR Executive\, ITS UK \n11:30am             Q&A & Discussion \n12:00pm            Session Close \nRegister to attend here
URL:https://www.its-uk.org/event/advocacy-and-public-affairs-group/
LOCATION:AtkinsRealis\, Nova North\, 11 Bressenden Place\, London\, SW1E 5BY
ATTACH;FMTTYPE=image/jpeg:https://www.its-uk.org/wp-content/uploads/2023/03/Whitehall.jpg
ORGANIZER;CN="Eduardo Pitts":MAILTO:eduardo.pitts@its-uk.org
END:VEVENT
BEGIN:VEVENT
DTSTART;TZID=Europe/London:20240910T130000
DTEND;TZID=Europe/London:20240910T170000
DTSTAMP:20260423T041139
CREATED:20240710T121353Z
LAST-MODIFIED:20240814T145935Z
UID:8245-1725973200-1725987600@www.its-uk.org
SUMMARY:Road User Charging Forum
DESCRIPTION:We’re partnering with University College London to hold a Road User Charging Forum event\, marking sixty years since the publication of the Smeed Report. The Smeed Report\, led by R.J. Smeed and supported by a team of economists and engineers\, was a study that was published into alternative methods of road user charging and commissioned by the UK Government between 1962 and 1964. \nThis event on the 10 September will take a look back and reflect on 60 years since the Report was published\, focusing on some of the major changes involving policy and practice as well as the technological advances and shifting public perceptions around charging for road use. We’ll hear from academia\, industry and local authorities before looking at what the future could hold for a national road pricing scheme. Please do register your place as soon as possible\, on what promises to be a unique and thought provoking event. \nREGISTER NOW\n  \n\nAgenda\n  \n13:00   Doors open\, lunch served \n13.45    Welcome and Introductions \n– Max Sugarman\, Chief Executive\, ITS UK \n– Prof Peter Jones\, Professor of Transport and Sustainable Development\, UCL \n– Representative from Jacobs \n  \n13.55    Introduction \n– Zeina Nazer\, ITS UK Road User Charging Forum Chair \n– Louise Lawrence\, ITS UK Road User Charging Forum Vice Chair \n  \n14:00  60 Years since Smeed – A reflection on road user charging theory\, policy and practice then and now \n– Prof Emeritus Phil Goodwin\, Professor of Transport Policy\, UCL and University of West England \n– Steven Norris\, President\, ITS UK & Former Transport Minister \n  \n14.30   Advances in technology: International Perspective & Experience \n– Luke Normington\, Senior Vice President\, Neology \n– Tim Wray\, Sales Director\, Kapsch \n  \n15.00    Charging for road use: what do the public think? \n– Silviya Barrett\, Director of Policy and Research\, Campaign for Better Transport \n– Jack Knight\, Managing Consultant and Thomas Welborn\, Managing Consultant\, Stonehaven \n  \n15.30   Q&A with speakers (more time for any questions from all the session above) \n  \n15.45  Break\n\n \n16.00    An economist’s perspective\n \n– John Siraut\, Chief Economist\, Jacobs \n  \n16.10    Pricing for a service rather than charging for contributing to a problem? \n– Prof Peter Jones\, Professor of Transport and Sustainable Development\, UCL \n  \n16.20    Prospects for a national scheme? \n– Steve Gooding\, Director\, RAC Foundation \n  \n16:30   Panel: A national road pricing scheme – Where do we go from here? \n– John Siraut\, Chief Economist\, Jacobs \n– Andrew Crudgington\, Climate Change Associate\, CIHT \n– Ben Plowden\, Chair of Transport Planning Society \n– Steve Gooding\, Director\, RAC Foundation \n– Zeina Nazer\, Road User Charging Forum Chair \n– Matthew Hills\, Transport Strategy and Economics\, PwC \n  \n17.00    Wrap up \n– Prof Peter Jones\, Professor of Transport and Sustainable Development\, UCL \n– Zeina Nazer\, Chair and Louise Lawrence\, Vice Chair\, Road User Charging Forum \n  \n17.15   Close \n17.15 – 18.00   Drinks and Networking \n  \nREGISTER NOW
URL:https://www.its-uk.org/event/road-user-charging-forum-2/
LOCATION:Cottons Centre\, London SE1 2QG\, SE1 2QG
ATTACH;FMTTYPE=image/jpeg:https://www.its-uk.org/wp-content/uploads/2024/07/CV-picture-scaled.jpg
ORGANIZER;CN="Rukshan Soysa":MAILTO:rukshan.soysa@its-uk.org
END:VEVENT
BEGIN:VEVENT
DTSTART;TZID=Asia/Dubai:20240918T080000
DTEND;TZID=Asia/Dubai:20240920T170000
DTSTAMP:20260423T041139
CREATED:20240716T120747Z
LAST-MODIFIED:20240916T130139Z
UID:8354-1726646400-1726851600@www.its-uk.org
SUMMARY:ITS World Congress Breakfast Receptions
DESCRIPTION:ITS UK is participating in the ITS World Congress\, taking place in Dubai from Monday 16th to Friday 20th September. \nThe event will showcase smart mobility services and ITS deployment\, and is expecting around 20\,000 visitors. \nWe will be part of the UK Pavilion organised by Local Council Roads Innovation Group (LCRIG)\, on behalf of the Transport Technology Forum\, supported by the Department for Transport\, Innovate UK and ITS UK. \nFind out about the UK pavilion here\, located at H7-E15. \nFind out more about the Congress\n\nBreakfast Events at the UK Pavilion\nDuring the week\, there will be a number of events taking place at the UK Pavilion\, including a ‘Meet the ITS Nationals’ Breakfast\, organised by ITS UK\, on Wednesday 18 September and a ‘Road to Birmingham 27’ Breakfast\, organised by West Midlands Combined Authority\, on Friday 20 September.  \nFind out more and register your place below. \n‘Meet the ITS Nationals’ Breakfast\, 18 September\, 10.30am\n\nOn Wednesday 18th September\, ITS UK will be organising an informal breakfast reception at 10.30am in partnership with the ITS Network of Nationals and their respective delegations. \nThe ITS Network of Nationals are a collection of some 30 ITS membership organisations from across Europe and beyond\, formed in order to ensure that ITS knowledge and information is transmitted to all actors at the local and national level – such as small and medium sized companies – and support ITS promotion from the ground up. Find out more about the ITS Nationals here. \nAt the Reception\, we will hear from ITS UK Chief Executive\, Max Sugarman and Donal Hodgins\, ITS Nationals Chair\, as well as from other ITS Nationals in attendance. \nThis reception\, taking place on the UK stand (booth  H7-E15) will be open to all. We do ask you to register to ensure your place is reserved. \nRegister your place here\n\n‘Road to Birmingham 27’ Breakfast\, 20 September\, 8.30am \n\nOn Friday 20th September\, the West Midlands Combined Authority will host a breakfast reception at 08.30am at the UK stand\, to kick off the road to Birmingham hosting the ITS World Congress in 2027. \nWe will hear from Transport for West Midlands\, the UK Government and  ITS UK about the latest developments for the 2027 World Congress and some insights into what the event will hold. \nThis reception\, taking place on the UK stand (booth  H7-E15) will be open to all. We do ask you to register to ensure your place is reserved. \nRegister your place here
URL:https://www.its-uk.org/event/its-world-congress/
LOCATION:Dubai\, World Trade Centre\, Sheikh Zayed Road\, Dubai\, United Arab Emirates
ATTACH;FMTTYPE=image/jpeg:https://www.its-uk.org/wp-content/uploads/2024/07/david-rodrigo-Fr6zexbmjmc-unsplash.jpg
END:VEVENT
BEGIN:VEVENT
DTSTART;TZID=Europe/London:20240925T110000
DTEND;TZID=Europe/London:20240925T120000
DTSTAMP:20260423T041139
CREATED:20240827T093752Z
LAST-MODIFIED:20240924T135846Z
UID:8922-1727262000-1727265600@www.its-uk.org
SUMMARY:User Behaviour Forum
DESCRIPTION:The next User Behaviour Forum will take place online on the 25 September 2024 from 11am to 12noon. \nIn this webinar\, we welcome ITS UK Members AtkinsRealis who will cover the challenge of accessibility within the Electric Vehicle market\, particularly exploring their EV user research data. \nThis will be followed by a talk by Motability Foundation\, a charity that supports accessible transport\, who plan to update us with their latest research and insights around how EV charging infrastructure can be made more accessible to users with disabilities. \n  \nAGENDA\n11:00am | Introduction and Welcome \nAston Brand\, User Behaviour Forum Vice Chair \n11.05am | Understanding Consumer Barriers to the Electric Vehicle Transition\nMatt Smith\, Senior Consultant and Francesca Barrick\, Senior Consultant\, Atkins \n11.25am | Innovations in Accessible Transport \nHarry Fisher\, Innovation Manager\, Motability Foundation \n11.45am | Q&A & Discussion \n12.00pm | Close \n  \nREGISTER NOW
URL:https://www.its-uk.org/event/user-behaviour-forum-2/
LOCATION:Online\, Online
ATTACH;FMTTYPE=image/png:https://www.its-uk.org/wp-content/uploads/2024/07/man-with-phone-small.png
END:VEVENT
BEGIN:VEVENT
DTSTART;TZID=Europe/London:20240926T120000
DTEND;TZID=Europe/London:20240926T160000
DTSTAMP:20260423T041139
CREATED:20240716T124632Z
LAST-MODIFIED:20240716T133248Z
UID:8359-1727352000-1727366400@www.its-uk.org
SUMMARY:Council Meeting
DESCRIPTION:The third ITS UK Council meeting of the year is set to take place on the 26th September at AECOM’s offices in Manchester. \nThe ITS UK Council meetings provide the opportunity to hear and influence the direction of ITS UK’s strategic direction as well as to hear from a senior industry speaker on a key issue of the day. \nOur Council meetings take place quarterly and attendance is open to Executive Members only.  If you would like to register for the meeting please get in touch with Rukshan Soysa\, Operations Manager at ITS UK\, at rukshan.soysa@its-uk.org \nA full agenda will be confirmed and available shortly.
URL:https://www.its-uk.org/event/council-meeting-4/
LOCATION:100 Embankment\, Cathedral Approach\, Salford M3 7FB\, M3 7FB
ATTACH;FMTTYPE=image/jpeg:https://www.its-uk.org/wp-content/uploads/2023/12/benjamin-child-GWe0dlVD9e0-unsplash-scaled.jpg
END:VEVENT
BEGIN:VEVENT
DTSTART;TZID=Europe/London:20240926T180000
DTEND;TZID=Europe/London:20240926T220000
DTSTAMP:20260423T041139
CREATED:20240402T173342Z
LAST-MODIFIED:20240419T165826Z
UID:6634-1727373600-1727388000@www.its-uk.org
SUMMARY:Executive Dinner with Vernon Everitt
DESCRIPTION:Each year\, ITS UK organises four dinners\, exclusively for our Executive Members\, providing them with the opportunity to meet with key decision-makers in the transport sector and to discuss key issues of the day in an intimate setting. \n  \nVernon Everitt advises the Mayor of Greater Manchester on developing an integrated public transport network for the region alongside more active travel facilities. From 2007 to January 2022 Vernon was Managing Director for Customers\, Communication and Technology at Transport for London. At the dinner\, Vernon Everitt will set out his priorities for a more integrated transport system for the city and the role of technology in supporting it. \n  \nThis event is kindly sponsored by Arup\, AtkinsRealis and Egis. \n \n  \n  \n\nAbout Vernon Everitt \n \nWith over 40 years’ experience across the finance\, transport and technology sectors\, Vernon is the Transport Commissioner for Greater Manchester. He advises the Mayor on developing an integrated public transport network for the region alongside more active travel facilities. \nFrom 2007 to January 2022 Vernon was Managing Director for Customers\, Communication and Technology at Transport for London. Vernon’s focus was on putting customers at the heart of transport strategy and operations\, including how integration of services and technology and data can deliver better journeys. He led the successful pan Government and transport industry marketing and communications strategy for the London 2012 Olympic Games\, the largest ever integrated campaign of its kind. \nVernon has also worked at senior level at the Financial Services Authority and the Bank of England in a variety of banking\, regulatory\, corporate and communications roles. He is also a senior advisor to the consultancy Teneo\, and chairs the National Grid ESO Technology Advisory Council. He joined TfW as a Non-Executive Director in September 2019. \n\nInterested in attending? \nThis event is exclusively for ITS UK’s Executive Membership. You can find out more about becoming an Executive Member by emailing us here.
URL:https://www.its-uk.org/event/executive-dinner-with-vernon-everitt/
ATTACH;FMTTYPE=image/jpeg:https://www.its-uk.org/wp-content/uploads/2024/04/joe-cleary-sIcAcPOgpMU-unsplash-scaled.jpg
END:VEVENT
END:VCALENDAR