BEGIN:VCALENDAR
VERSION:2.0
PRODID:-//ITS UK - ECPv6.15.17//NONSGML v1.0//EN
CALSCALE:GREGORIAN
METHOD:PUBLISH
X-ORIGINAL-URL:https://www.its-uk.org
X-WR-CALDESC:Events for ITS UK
REFRESH-INTERVAL;VALUE=DURATION:PT1H
X-Robots-Tag:noindex
X-PUBLISHED-TTL:PT1H
BEGIN:VTIMEZONE
TZID:Europe/London
BEGIN:DAYLIGHT
TZOFFSETFROM:+0000
TZOFFSETTO:+0100
TZNAME:BST
DTSTART:20240331T010000
END:DAYLIGHT
BEGIN:STANDARD
TZOFFSETFROM:+0100
TZOFFSETTO:+0000
TZNAME:GMT
DTSTART:20241027T010000
END:STANDARD
BEGIN:DAYLIGHT
TZOFFSETFROM:+0000
TZOFFSETTO:+0100
TZNAME:BST
DTSTART:20250330T010000
END:DAYLIGHT
BEGIN:STANDARD
TZOFFSETFROM:+0100
TZOFFSETTO:+0000
TZNAME:GMT
DTSTART:20251026T010000
END:STANDARD
BEGIN:DAYLIGHT
TZOFFSETFROM:+0000
TZOFFSETTO:+0100
TZNAME:BST
DTSTART:20260329T010000
END:DAYLIGHT
BEGIN:STANDARD
TZOFFSETFROM:+0100
TZOFFSETTO:+0000
TZNAME:GMT
DTSTART:20261025T010000
END:STANDARD
END:VTIMEZONE
BEGIN:VEVENT
DTSTART;TZID=Europe/London:20250203T100000
DTEND;TZID=Europe/London:20250203T160000
DTSTAMP:20260422T233855
CREATED:20241209T155521Z
LAST-MODIFIED:20250203T093658Z
UID:10812-1738576800-1738598400@www.its-uk.org
SUMMARY:The Road to D-TRO Conference
DESCRIPTION:The Digitalisation of Traffic Regulation Orders (TROs) offers a generational opportunity to change the way we manage the roadside. Whilst many TROs are published as paper documents by traffic authorities\, the signing of the Automated Vehicles Act 2024 into law means that all authorities will soon need to have their TROs in digital formats\, with a single data standard that can be shared with the Department for Transport. \nThis provides an major opportunity to change the way our roadside works. It will mean easier consultations for the public\, quicker processes for approvals and a more flexible system that can meet the changing policy needs of local authorities. \nThe Road to D-TRO Conference\, sponsored by Causeway Technologies\, will explore the current state of play\, provide examples of those local authorities who have already made the move across to digital\, and ask ‘what next?’ for D-TROs and the management of the road. \nWe’ll hear from Government\, local authorities\, suppliers and key decision makers to get their perspective on how we can best utilise D-TROs to support a greener\, safer and more efficient road network. \nThis event is open to all and free to attend – simply register via the link below. By registering\, you consent to have your details shared with Causeway Technologies. \nWhat to expect at this event?\n\nLearn from your peers and hear from key industry voices\, including the DfT.\nGain expert insights into the D-TRO requirements.\nParticipate in workshops designed to help you unlock the full potential of digital traffic orders for your community.\n\nRegister to Attend\nWith thanks to Sponsors: \n \nWhere do you currently stand on D-TROs?\nAs part of the event\, Causeway Technologies are gathering views on current levels of awareness from Local Authorities regarding D-TROs. Fill in Causeway’s survey here. \n  \n\n  \nAgenda\n10am | Arrivals\, breakfast and networking\n10.30am | Welcome and Overview of the Day\nMax Sugarman\, Chief Executive\, ITS UK\nNick Smee\, Director of Infrastructure\, Causeway Technologies \n10.45am | Keynote: The Government’s Vision for Transport Technology\nAnthony Ferguson\, Deputy Director\, Traffic Technology\, Department for Transport \n11.10am | An Update on D-TROs\nPaul Chandler\, Head of Traffic Management Digital Services\, Department for Transport \n11.20am | Collaborating for Success: Customer and DSP Insights from the D-TRO Beta\nEliza Shaw\, Product Manager\, Causeway Technologies \n11.30am | Q&A: Where are we with the Digital Traffic Regulation Orders?\nPaul Chandler\, Head of Traffic Management Digital Services\, Department for Transport\nEliza Shaw\, Product Manager\, Causeway Technologies\nGareth Tilley\, Principal Consultant\, PA Consulting\nIan Walker\, Consultant Engineer\, City of Wolverhampton Council \n11.50am | Refreshments and Networking\n12.10pm | Case study from Cambridge County Council \n\n12.30pm | Lunch\n2pm | Workshops. Delegates will have the choice of one of three:\n1. Data-Driven Success: Laying the Foundation for Digital TROs\nHelp highway authorities understand key considerations when assessing the quality of their data and define a clear pathway for achieving compliance with DfT’s requirements. Includes practical frameworks\, case studies and audience Q&A.\n \n2. Integration in Action: Unlocking the Power of D-TRO for Smarter Journeys\, Parking\, and Beyond\nDemonstrate how becoming D-TRO ready sooner rather than later\, can unlock transformative benefits for highway authorities and the public. Participants will learn how Digital Solution Providers can partner to improve parking enforcement\, empower smarter journey planning\, and enable better collaboration with works promoters. Includes practical examples and actionable steps plus audience Q&A.\n \n3. Taking Control: Preparing for Moving Traffic Order Enforcement\nGuide participants through the process of evaluating and adopting moving traffic order enforcement powers to improve road safety and reduce congestion effectively. Includes practical insights into assessing network readiness\, navigating legislative requirements\, and implementing enforcement technologies with real-world examples and best practices plus Q&A. \n2.45pm | Feedback on Workshops\n3pm | A look to the future: What is next for D-TROs?\nSally Kendall\, Head of Streetworks Policy\, Department for Transport\nDominic Paulo\, Senior Director\, EMEA – Public Sector\, INRIX\nJohn Cooper\, Senior Engineer\, Department for Transport\nGary Payne\, Principal Parking & TRO Officer\, North Northamptonshire & West Northamptonshire (Kier)\nMike Potter\, Head of Commercial\, AppyWay \n3.40pm | Closing Remarks\nMax Sugarman\, Chief Executive\, ITS UK \n3.45pm | Close\n 
URL:https://www.its-uk.org/event/road-to-d-tro-conference/
LOCATION:IET Austin Court\, Austin Court\, 80 Cambridge Street\, Birmingham\, B1 2NP\, United Kingdom
CATEGORIES:Conference
ATTACH;FMTTYPE=image/jpeg:https://www.its-uk.org/wp-content/uploads/2024/05/Motion-street-London-scaled.jpg
ORGANIZER;CN="Rukshan Soysa":MAILTO:rukshan.soysa@its-uk.org
END:VEVENT
BEGIN:VEVENT
DTSTART;VALUE=DATE:20250205
DTEND;VALUE=DATE:20250206
DTSTAMP:20260422T233855
CREATED:20241104T135509Z
LAST-MODIFIED:20241104T140706Z
UID:10091-1738713600-1738799999@www.its-uk.org
SUMMARY:Transport AI 2025
DESCRIPTION:Following the very successful inaugural Transport AI 2024\, the Transport AI 2025 conference returns on 5 February 2025 in Manchester.  \nTransport AI 2025 will bring together public and private sector professionals to discuss the latest developments in artificial intelligence (AI) as they relate to transport and planning across the Government’s five missions – and its Artificial Intelligence Opportunities Action Plan. \nTransport AI 2025 will cover AI innovation in these areas: \n•           Road (bus\, DRT\, cars\, vans and HGVs\, cycling\, scooting\, shared vehicles\, CAVs\, freight) \n•           Rail (train\, metro\, light trail\, high speed rail\, tram\, freight) \n•           Air (drones\, net zero flight\, logistics) \n•           Place (pedestrians\, high streets\, urban realm\, inclusivity\, green and blue spaces) \nFind out more information here  \nThe Call for Papers is already open and find out how to submit here. \nITS UK is a partner for this event\, which is organised by Landor Links. If you have any queries\, please reach out to the event organiser.
URL:https://www.its-uk.org/event/transport-ai-2025/
LOCATION:Manchester Conference Centre\, Sackville St\, Manchester\, Sackville Street\, Manchester\, M1 3BB
CATEGORIES:Partner Event
ATTACH;FMTTYPE=image/jpeg:https://www.its-uk.org/wp-content/uploads/2024/11/Transport-AI-scaled.jpg
END:VEVENT
BEGIN:VEVENT
DTSTART;TZID=Europe/London:20250212T120000
DTEND;TZID=Europe/London:20250212T163000
DTSTAMP:20260422T233856
CREATED:20241210T143833Z
LAST-MODIFIED:20250110T094902Z
UID:10836-1739361600-1739377800@www.its-uk.org
SUMMARY:Active Travel and Inclusive Mobility Forum
DESCRIPTION:Tech\, accessibility and active travel\nHear from Milton Keynes Council\, CIHT\, GoodMaps and Clearview Intelligence\nIn our first meeting of 2025\, the ITS UK Active Travel and Inclusive Mobility Forums are partnering to discuss to what degree ITS solutions can help to address accessibility barriers\, with a particular focus on walking. \nThe meeting will be hosted by ITS UK Members Clearview Intelligence and takes place in Milton Keynes on 12 February. \nWe’ll hear from: \nAdele Wearing of Milton Keynes Council and Kris Beuret of Social Research Associates and ITS UK’s Inclusive Mobility Forum Chair\, who will both speak and discuss the problem of missing data for pedestrian bus trips and how this can create opportunities for ITS. \nJustin Ward of Chartered Institute of Highways and Transportation\, (CIHT)\, who will give a presentation on “Creating a Public Realm for All” which is a report by the CIHT that looks at the challenges involved in achieving accessible transport infrastructure in the public realm and this includes walking. \nNeil Barnfather of GoodMaps\, who are a provider offering innovative AI-driven indoor navigation\, enabling everyone the freedom and autonomy to discover and interact with the world around them. \nFinally\, Peter Cattell of Clearview Intelligence will cover how we can protect vulnerable road users on the network. \nPlease register your place below. \n  \nAGENDA \n12:00\nArrival and Lunch \n1.00pm\nWelcome & Overview of Day\nNick Lanigan\, Managing Director\, Clearview Intelligence \n1.05pm\nIntroduction to Active Travel and Inclusive Mobility Forums and Overview of Event\nKris Beuret and Tony Duckenfield\, Inclusive Mobility Forum Officers  \n\nSESSION 1 – Barriers impacting the accessibility of walking and wheeling \n1.10pm\nThe problem of missing data for pedestrian bus trips and opportunities for ITS\nAdele Wearing\, Strategic Transport Lead\, Milton Keynes Council and Kris Beuret\, Social Research Associates \n1.40pm\nCreating a Public Realm for All\nJustin Ward\, Head of Policy and Technical Practice\, Chartered Institute of Highways and Transportation \, CIHT \n2.00pm\nQ&A \n2.15pm\nTea and Coffee Break \nSESSION 2 – Solutions for improving the accessibility of walking and wheeling \n2.30pm\nInnovative AI-driven indoor navigation\nNeil Barnfather\, Chief Commercial Officer\, GoodMaps \n2.50pm\nProtecting Vulnerable Road Users\nPeter Cattell\, Head of Technical Sales\, Clearview Intelligence \n3.10pm\nQ&A \n3.30pm\nEvent Close \n  \nRegister Now \n 
URL:https://www.its-uk.org/event/active-travel-and-inclusive-mobility-forum/
LOCATION:Aurora House\,  Deltic Avenue Rooksley\,  Milton Keynes Bucks  MK13 8LW\, Milton Keynes
ATTACH;FMTTYPE=image/png:https://www.its-uk.org/wp-content/uploads/2024/12/Walking-small.png
END:VEVENT
END:VCALENDAR