BEGIN:VCALENDAR
VERSION:2.0
PRODID:-//ITS UK - ECPv6.15.17//NONSGML v1.0//EN
CALSCALE:GREGORIAN
METHOD:PUBLISH
X-ORIGINAL-URL:https://www.its-uk.org
X-WR-CALDESC:Events for ITS UK
REFRESH-INTERVAL;VALUE=DURATION:PT1H
X-Robots-Tag:noindex
X-PUBLISHED-TTL:PT1H
BEGIN:VTIMEZONE
TZID:Europe/London
BEGIN:DAYLIGHT
TZOFFSETFROM:+0000
TZOFFSETTO:+0100
TZNAME:BST
DTSTART:20240331T010000
END:DAYLIGHT
BEGIN:STANDARD
TZOFFSETFROM:+0100
TZOFFSETTO:+0000
TZNAME:GMT
DTSTART:20241027T010000
END:STANDARD
BEGIN:DAYLIGHT
TZOFFSETFROM:+0000
TZOFFSETTO:+0100
TZNAME:BST
DTSTART:20250330T010000
END:DAYLIGHT
BEGIN:STANDARD
TZOFFSETFROM:+0100
TZOFFSETTO:+0000
TZNAME:GMT
DTSTART:20251026T010000
END:STANDARD
BEGIN:DAYLIGHT
TZOFFSETFROM:+0000
TZOFFSETTO:+0100
TZNAME:BST
DTSTART:20260329T010000
END:DAYLIGHT
BEGIN:STANDARD
TZOFFSETFROM:+0100
TZOFFSETTO:+0000
TZNAME:GMT
DTSTART:20261025T010000
END:STANDARD
END:VTIMEZONE
BEGIN:VTIMEZONE
TZID:Europe/Madrid
BEGIN:DAYLIGHT
TZOFFSETFROM:+0100
TZOFFSETTO:+0200
TZNAME:CEST
DTSTART:20240331T010000
END:DAYLIGHT
BEGIN:STANDARD
TZOFFSETFROM:+0200
TZOFFSETTO:+0100
TZNAME:CET
DTSTART:20241027T010000
END:STANDARD
BEGIN:DAYLIGHT
TZOFFSETFROM:+0100
TZOFFSETTO:+0200
TZNAME:CEST
DTSTART:20250330T010000
END:DAYLIGHT
BEGIN:STANDARD
TZOFFSETFROM:+0200
TZOFFSETTO:+0100
TZNAME:CET
DTSTART:20251026T010000
END:STANDARD
BEGIN:DAYLIGHT
TZOFFSETFROM:+0100
TZOFFSETTO:+0200
TZNAME:CEST
DTSTART:20260329T010000
END:DAYLIGHT
BEGIN:STANDARD
TZOFFSETFROM:+0200
TZOFFSETTO:+0100
TZNAME:CET
DTSTART:20261025T010000
END:STANDARD
END:VTIMEZONE
BEGIN:VEVENT
DTSTART;TZID=Europe/London:20250515T183000
DTEND;TZID=Europe/London:20250515T210000
DTSTAMP:20260422T203452
CREATED:20250326T110600Z
LAST-MODIFIED:20250326T151833Z
UID:12957-1747333800-1747342800@www.its-uk.org
SUMMARY:Early Careers Drinks Reception
DESCRIPTION:Join us for an evening celebrating early career professionals in ITS! \nOpen to all – including both early careers professionals and those more experienced in their career – the event is our annual celebration of emerging ITS professionals and the impact they make on the sector. \nStarting from 6.30pm\, the Reception will provide a chance for you to meet with other early career professionals in an informal setting. There will be opportunities to network\, hear from industry leaders and find out more about ITS UK’s plans for early career professionals! \nPlus\, at the Reception\, we’ll be revealing the winner of the annual Essay Competition\, where we invite young professionals to submit a 1\,500 word essay\, with the chance to win £500! Find out more about the Competition here. \n  \nRegister here\n\nWith thanks to Event Sponsor:
URL:https://www.its-uk.org/event/early-careers-drinks-reception/
LOCATION:Marlin\, Marlin\, Waterloo 111 Westminster Bridge Road\, London\, SE1 7HR\, United Kingdom
ATTACH;FMTTYPE=image/jpeg:https://www.its-uk.org/wp-content/uploads/2025/03/shutterstock_1036150729.jpg
ORGANIZER;CN="Rukshan Soysa":MAILTO:rukshan.soysa@its-uk.org
END:VEVENT
BEGIN:VEVENT
DTSTART;VALUE=DATE:20250519
DTEND;VALUE=DATE:20250522
DTSTAMP:20260422T203452
CREATED:20250415T111815Z
LAST-MODIFIED:20250513T075140Z
UID:13270-1747612800-1747871999@www.its-uk.org
SUMMARY:ITS European Congress
DESCRIPTION:Join ITS UK at the ITS European Congress in Seville! \nThe ITS Congresses bridge the worlds of mobility\, technology\, and innovation\, gathering experts\, policymakers\, and stakeholders from industry and academia to advance the intelligent transport systems (ITS) field. Recognising that mobility challenges transcend borders\, these Congresses address not only local and national concerns but also global ones\, fostering a worldwide dialogue on smart mobility solutions.  \nOrganised by ERTICO every two years in Europe\, and every third year in the EMEA region for the ITS World Congress\, these events lead the charge in global ITS collaboration and innovation.  \nThe event will take place in Seville\, Spain. \nThe UK Pavillion\nITS UK will be in attendance and supporting the UK pavilion\, which will be delivered by the Transport Technology Forum. \nSMEs wanting to be involved in showcasing their products in Seville need to contact LCRIG. There will be a cost to participating\, and companies must commit to having someone on stand when the exhibition is open. \nFind out more\n\nITS Nationals Breakfast\nITS UK are once again organising a breakfast for the ITS Nationals on the UK Pavilion at the European Congress in Seville\, taking place on Tuesday 20 May from 10.30am to 11.30am. \nThe Breakfast will provide the opportunity for the ITS Nationals to introduce themselves\, and to give a short overview of the ITS sector in their respective country. There will also be a welcome from ITS Nationals Vice Chair Marc Verhage and an overview of the ITS World Congress in Birmingham 2027 from Chris Lane of Transport for West Midlands. \nITS Nationals signed up to attend include: \n\nMarkus Wartha\, President\, ITS Germany\nMihai Niculescu\, Director General\, ITS Romania\nMarc Verhage\, Chief Executive\, Connekt (ITS Netherlands)\nMax Sugarman\, Chief Executive\, ITS UK\nAysel Kandemir\, President\, ITS Turkiye\nHanne Nettum Breivik\, CEO\, ITS Norway\nMartin Russ\, Managing Director\, Austria Tech (ITS Austria)\nJorge Pinho de Sousa\, President\, ITS Portugal\nWith more to come!\n\nThe event will take place at the UK Pavilion (B1) on Tuesday 20 May 2025\, 10.30am – 11.30am. It is open to all\, but we encourage you to register to give us an idea of numbers \nRegister here\n  \n 
URL:https://www.its-uk.org/event/its-european-congress/
LOCATION:Fibes – Conference and Exhibition\, Palacio de Congresos y Exposiciones Sevilla\, Seville\, 41020\, Spain
ATTACH;FMTTYPE=image/jpeg:https://www.its-uk.org/wp-content/uploads/2023/03/KTC7876-Seville_Spain-1.jpeg
ORGANIZER;CN="Rukshan Soysa":MAILTO:rukshan.soysa@its-uk.org
END:VEVENT
BEGIN:VEVENT
DTSTART;VALUE=DATE:20250521
DTEND;VALUE=DATE:20250523
DTSTAMP:20260422T203452
CREATED:20250515T151911Z
LAST-MODIFIED:20250516T094153Z
UID:18615-1747785600-1747958399@www.its-uk.org
SUMMARY:Traffex 2025
DESCRIPTION:Traffex is the a leading event for the highway\, roads and traffic management industry that takes place at CBS Arena Coventry. \nIt brings together a senior audience of engineers\, infrastructure professionals\, policymakers\, and suppliers to explore the latest innovations in road safety\, construction and maintenance\, traffic management and technology. \nITS UK will be present at the event and you can locate us at Stand F7. \nWe will also be speaking at the following: \nKeynote Panel: Integrated Transport Strategies: How Can ITS Help Join the Dots?\n10am\, Thursday 22 May | Management and Mobility Theatre \nPresentation: What Next for Noise Cameras?\n12pm\, Thursday 22 May | Safety and Sustainability Theatre \n  \nFind out more
URL:https://www.its-uk.org/event/traffex-2025/
LOCATION:Judds Ln\, Coventry CV6 6GE\, Coventry RICOH Arena\, Coventry\, CV6 6GE
ATTACH;FMTTYPE=image/png:https://www.its-uk.org/wp-content/uploads/2025/05/traffex-scaled.png
END:VEVENT
END:VCALENDAR