BEGIN:VCALENDAR
VERSION:2.0
PRODID:-//ITS UK - ECPv6.15.17//NONSGML v1.0//EN
CALSCALE:GREGORIAN
METHOD:PUBLISH
X-ORIGINAL-URL:https://www.its-uk.org
X-WR-CALDESC:Events for ITS UK
REFRESH-INTERVAL;VALUE=DURATION:PT1H
X-Robots-Tag:noindex
X-PUBLISHED-TTL:PT1H
BEGIN:VTIMEZONE
TZID:Europe/London
BEGIN:DAYLIGHT
TZOFFSETFROM:+0000
TZOFFSETTO:+0100
TZNAME:BST
DTSTART:20250330T010000
END:DAYLIGHT
BEGIN:STANDARD
TZOFFSETFROM:+0100
TZOFFSETTO:+0000
TZNAME:GMT
DTSTART:20251026T010000
END:STANDARD
BEGIN:DAYLIGHT
TZOFFSETFROM:+0000
TZOFFSETTO:+0100
TZNAME:BST
DTSTART:20260329T010000
END:DAYLIGHT
BEGIN:STANDARD
TZOFFSETFROM:+0100
TZOFFSETTO:+0000
TZNAME:GMT
DTSTART:20261025T010000
END:STANDARD
BEGIN:DAYLIGHT
TZOFFSETFROM:+0000
TZOFFSETTO:+0100
TZNAME:BST
DTSTART:20270328T010000
END:DAYLIGHT
BEGIN:STANDARD
TZOFFSETFROM:+0100
TZOFFSETTO:+0000
TZNAME:GMT
DTSTART:20271031T010000
END:STANDARD
END:VTIMEZONE
BEGIN:VEVENT
DTSTART;VALUE=DATE:20260513
DTEND;VALUE=DATE:20260515
DTSTAMP:20260420T185722
CREATED:20260306T163921Z
LAST-MODIFIED:20260306T163931Z
UID:24414-1778630400-1778803199@www.its-uk.org
SUMMARY:UK Rail
DESCRIPTION:UK Rail is themeeting place for the entire rail industry – a space to connect\, collaborate\, and showcase the very best of UK rail. It brings together leaders from across the UK rail sector\, rail projects and operators\, rolling stock OEMs\, suppliers\, and innovators. \nTaking place in Birmingham from 13 to 14 May\, the trade show focuses on digital transformation\, infrastructure\, and station technology\, bringing together key industry leaders. \nITS UK will be exhibiting at Stand A31 – make sure to join us there! \nPlease register here to attend the conference and access the venue. \nDrinks Reception\n\n\nThe Rail Innovation Group and ITS UK are organising a joint networking meet up on 13 May from 3pm. \n\n\n\nThis meet up will form part of the agenda for UK Rail 2026 and will be: \n\nAn informal space for attendees to meet\, connect\, and exchange ideas\nBringing together rail\, ITS\, and technology professionals from across the sector\nOpen networking to spark conversations\, partnerships\, and future collaboration\n\nRegister to attend
URL:https://www.its-uk.org/event/uk-rail/
LOCATION:Piazza 1\, NEC Birmingham\, Marston Green\, Birmingham B40 1PA\, Piazza 1\, Marston Green\, Birmingham\, B40 1PA
ATTACH;FMTTYPE=image/jpeg:https://www.its-uk.org/wp-content/uploads/2023/03/stock-photo-trade-show.jpeg
END:VEVENT
BEGIN:VEVENT
DTSTART;VALUE=DATE:20260520
DTEND;VALUE=DATE:20260522
DTSTAMP:20260420T185722
CREATED:20260306T164253Z
LAST-MODIFIED:20260306T164253Z
UID:24419-1779235200-1779407999@www.its-uk.org
SUMMARY:Traffex
DESCRIPTION:Traffex is the a leading event for the highway\, roads and traffic management industry that takes place at CBS Arena Coventry. \nIt brings together a senior audience of engineers\, infrastructure professionals\, policymakers\, and suppliers to explore the latest innovations in road safety\, construction and maintenance\, traffic management and technology. \nITS UK will be present at the event and you can locate us at Stand F7. \nWe will also be speaking at the following: \nStuck on Red: From Obsolescence to a Network Fit for the Future\n11:10 – 11:30AM | Thursday 21st May | TechTalks Theatre \nFind out more
URL:https://www.its-uk.org/event/traffex/
LOCATION:Judds Ln\, Coventry CV6 6GE\, Coventry RICOH Arena\, Coventry\, CV6 6GE
ATTACH;FMTTYPE=image/png:https://www.its-uk.org/wp-content/uploads/2025/05/traffex-scaled.png
END:VEVENT
BEGIN:VEVENT
DTSTART;VALUE=DATE:20260527
DTEND;VALUE=DATE:20260529
DTSTAMP:20260420T185722
CREATED:20260223T171452Z
LAST-MODIFIED:20260420T155406Z
UID:23924-1779840000-1780012799@www.its-uk.org
SUMMARY:SafetyTech Forum
DESCRIPTION:Join us for the inaugural SafetyTech Forum\, a one day event exploring the future of technology that supports safer travel for all.\nThe Forum is a one-day Conference exploring the latest innovations and technology supporting safety on all modes of transport. \nBringing together industry leaders\, policymakers\, researchers\, operators\, and technology innovators\, the Forum will include keynote presentations\, expert panels and interactive discussions\, setting out the latest in the safety tech space. \nThe event will take place from 10am to 5pm at the Leonardo Royal Hotel\, Birmingham on 28 May 2026. We’ll be holding a site visit the day before\, on Wednesday 27 May 2026\, to National Highways Development Centre. \n\nWhat will be covered?\nAt the Forum you’ll hear about: \n\nThe latest policy updates around the Road Safety Strategy and its impact on the sector\nThe latest developments in areas like Home Office Type Approval and enforcement tech\nUpdates on technological developments and innovations supporting the safety of all on the transport network\nPractical examples of best practice\, implementation and innovation from across the transport network\nNetwork with senior stakeholders\, policymakers\, enforcement professionals and technology providers\n\nA full agenda will be shared in due course. \n\nRegistration\nRegistration is free of charge and open to ITS UK members and the public sector. You can register as many colleagues as you wish via the link below. \nRegister here\n\nExhibiting and Sponsorship\nPromote your company and showcase your brand at the inaugural SafetyTech Forum.  Explore the networking and promotional opportunities available to help raise your company profile and meet your business objectives. \nGOLD SPONSOR & EXHIBITOR\n£3\,250 + VAT | 1 Available \nIncludes: Headline Sponsor | Keynote Address | Filmed Interview | Exhibitor Stand – and more! \nSILVER SPONSOR & EXHIBITOR\n £2\,250 + VAT | 1 Available | 1 Sold! \nIncludes: Prominent Sponsor | Short Speaking Slot | Short Filmed Interview | Exhibitor Stand – and more! \nBRONZE SPONSOR & EXHIBITOR\n£750 + VAT | 2 available | 5 Sold!\n \nIncludes: Promotion in ITS UK Communications | Exhibitor Stand \nBook your sponsorship slot here\n  \nSPONSORS\nSilver \nBronze \n \n \n  \n \n \nSafetyTech Forum 2026 is supported by:       \n \n\nPre-Forum Site Visit to National Highways Development Centre\n27 May 2026 | 11am to 4pm\nThe day before the SafetyTech Forum\, we will be hosting a site visit to National Highways’ Development Centre on Moreton on Marsh. \nThe Centre is a realistic on-road\, roadside and training environment. It is a test facility is designed to reduce development risks and support design\, prototyping\, testing\, development\, validation\, certification and training. The sites focus is to advance research and innovations though Technology Readiness Levels to derisk introduction onto the strategic and major road network. \nThe Centre includes a four lane carriageway\, designed for conducting road trials with 400m of marked lane length\, allowing vehicle speeds up to 70 mph. \nThe site visit will include a tour of the site\, highlighting some of the key technological developments there and plans for its future use as a hub for industry innovation. \nBooking your place\nThe address of the site is: The National Highways Development Centre\,  c/o The Fire Service College\, London Road\, Moreton-in-Marsh\, Gloucestershire\, GL56 0RH \nDelegates will need to book separately to the Forum to attend via the link below. Delegates will need to make their own travel arrangements to and from the site. \nRegister for the site visit here\n  \n  \n  \n 
URL:https://www.its-uk.org/event/safetytech-forum/
LOCATION:Leonardo Royal Birmingham Hotel\, 245 Broad Street\, Birmingham\, B12HQ
ATTACH;FMTTYPE=image/jpeg:https://www.its-uk.org/wp-content/uploads/2026/02/shutterstock_2189005185.jpg
END:VEVENT
END:VCALENDAR