BEGIN:VCALENDAR
VERSION:2.0
PRODID:-//ITS UK - ECPv6.15.17//NONSGML v1.0//EN
CALSCALE:GREGORIAN
METHOD:PUBLISH
X-WR-CALNAME:ITS UK
X-ORIGINAL-URL:https://www.its-uk.org
X-WR-CALDESC:Events for ITS UK
REFRESH-INTERVAL;VALUE=DURATION:PT1H
X-Robots-Tag:noindex
X-PUBLISHED-TTL:PT1H
BEGIN:VTIMEZONE
TZID:Europe/London
BEGIN:DAYLIGHT
TZOFFSETFROM:+0000
TZOFFSETTO:+0100
TZNAME:BST
DTSTART:20250330T010000
END:DAYLIGHT
BEGIN:STANDARD
TZOFFSETFROM:+0100
TZOFFSETTO:+0000
TZNAME:GMT
DTSTART:20251026T010000
END:STANDARD
BEGIN:DAYLIGHT
TZOFFSETFROM:+0000
TZOFFSETTO:+0100
TZNAME:BST
DTSTART:20260329T010000
END:DAYLIGHT
BEGIN:STANDARD
TZOFFSETFROM:+0100
TZOFFSETTO:+0000
TZNAME:GMT
DTSTART:20261025T010000
END:STANDARD
BEGIN:DAYLIGHT
TZOFFSETFROM:+0000
TZOFFSETTO:+0100
TZNAME:BST
DTSTART:20270328T010000
END:DAYLIGHT
BEGIN:STANDARD
TZOFFSETFROM:+0100
TZOFFSETTO:+0000
TZNAME:GMT
DTSTART:20271031T010000
END:STANDARD
END:VTIMEZONE
BEGIN:VEVENT
DTSTART;TZID=Europe/London:20260601T090000
DTEND;TZID=Europe/London:20260601T150000
DTSTAMP:20260420T201844
CREATED:20260218T165616Z
LAST-MODIFIED:20260325T205047Z
UID:23873-1780304400-1780326000@www.its-uk.org
SUMMARY:Local Government Exchange
DESCRIPTION:ITS UK’s first Local Government Exchange will bring together the transport technology sector with local councillors and decision-makers to explore how industry can support local priorities and policy objectives. \nThe inaugural event will take place in Derby\, shortly after the local elections on 7 May 2026. We will invite policymakers from across the East Midlands\, particularly local councillors\, but also MPs and Peers\, and bring them together with ITS UK members to discuss the key challenges and opportunities facing the transport network. \nThis inaugural event will aim for half of those in the room to be from the public sector\, providing meaningful discussion between transport technology companies and public sector decision-makers. \n\nHow does it work?\nThe event will be evenly split between public sector and industry representatives: \n\n50% local councillors (prioritised)\, as well as MPs and Peers from the East Midlands (25 tickets)\n50% ITS UK members (25 tickets)\n\nThere will be five themed discussion tables\, each focused on a priority area for transport policy in the East Midlands: \n\nSafety\nCongestion\nPublic Transport\nActive Travel\nInnovation\n\nLocal government attendees will rotate between tables\, joining the discussions most relevant to their interests and responsibilities. At each table\, they will engage directly with industry representatives to explore practical solutions to the challenges they face. \nWe will run three structured discussion sessions\, ensuring participants have the opportunity to contribute to multiple topic areas and build connections. \nA report of discussions on each table will be shared with attendees following the event. \n\nAgenda\n9.30am | Arrivals\, Breakfast served \n10.15am | Welcome\, Max Sugarman\, Chief Executive\, ITS UK \n10.20am | Keynote: Claire Ward\, Mayor\, East Midlands (invited) \n10.30am | Session 1\nDiscussion around tables \n11.30am | Networking Break \n12pm | Session 2\nDiscussion around tables \n1pm | Lunch and informal networking \n2pm | Session 3\nDiscussion around tables \n3pm | Close \nBreakfast and Lunch will be provided. Please note\, there are only 25 places for ITS UK members (with 25 for the public sector) so we are limiting tickets to two per member organisation. We encourage booking speedily to avoid disappointment. \n\nSponsors\n \n \nInterested in getting involved? There is one sponsorship slot available for this event. Email contact@its-uk.org to get involved \n  \n\nTickets\nITS UK members in the private sector can purchase up to two tickets per member for this event: \n\n£150 + VAT for Executive Members\n£175 + VAT for Standard Members\n\nIf you’re in the public sector and would like to attend (with a paid-for ticket) please email contact@its-uk.org \nBook your ticket
URL:https://www.its-uk.org/event/local-government-exchange/
LOCATION:The Grange\, 457 Burton Road\, Littleover\, Derby\, United Kingdom
ATTACH;FMTTYPE=image/jpeg:https://www.its-uk.org/wp-content/uploads/2026/02/shutterstock_2514368583.jpg
END:VEVENT
BEGIN:VEVENT
DTSTART;TZID=Europe/London:20260616T140000
DTEND;TZID=Europe/London:20260616T170000
DTSTAMP:20260420T201844
CREATED:20251215T133849Z
LAST-MODIFIED:20260324T144942Z
UID:22948-1781618400-1781629200@www.its-uk.org
SUMMARY:Parliamentary Reception
DESCRIPTION:ITS UK’s annual Parliamentary Reception will take place on 16 June 2026 in the Terrace Pavilion of the House of Commons\, from 2 to 5pm. \nEach year\, the Reception offers the opportunity for members to meet with policy makers\, Parliamentarians and Ministers\, to discuss the future of transport technology over a delicious cream tea overlooking the Thames and city of London. \nSpeakers\n Olly Glover MP\nLiberal Democrat Transport Spokesperson \nOlly Glover is the Transport Spokesperson for the Liberal Democrats. Prior to becoming an MP\, Olly had spent all his working life on the railways. He held a range of senior operational management positions in Network Rail and train operating companies. He led large teams of train drivers\, was responsible for major control centres\, worked in partnership with trade unions\, and held hands-on roles managing disruption\, on the tracks and on station concourses. Olly worked as a consultant\, using his knowledge to help railway companies in the UK and abroad to improve their operations. \nRichard Holden MP\nShadow Secretary of State for Transport \nRichard was first elected in December 2019 as the first ever Conservative Member of Parliament for North West Durham. Born in Blackburn\, Richard grew up in the Pennine village of Grindleton\, near Clitheroe. He has worked in both the public and private sectors\, as well as in politics in London. Before becoming an MP\, he worked as Deputy Head of Press for the Conservative Party Headquarters and as a Special Adviser to the Secretaries of State for Education\, Defence\, Transport and in the House of Lords. \nFollowing his election\, Richard has raised issues such as transport infrastructure\, jobs\, the economy\, and farming in Parliament. His Majesty’s Leader of the Opposition\, The Rt Hon Kemi Badenoch MP\, appointed Richard to serve as the Shadow Secretary of State for Transport in her Shadow Cabinet on 22 July 2025. \n\n\nRegister to attend here\nNot a member? Get in touch at contact@its-uk.org \nHeadline Sponsor
URL:https://www.its-uk.org/event/parliamentary-reception-3/
LOCATION:Parliament\, House of Commons\, Westminster\, London\, SW1A 0AA\, United Kingdom
ATTACH;FMTTYPE=image/jpeg:https://www.its-uk.org/wp-content/uploads/2025/12/ITSUKParliamentary0278.jpg
ORGANIZER;CN="Eduardo Pitts":MAILTO:eduardo.pitts@its-uk.org
END:VEVENT
BEGIN:VEVENT
DTSTART;VALUE=DATE:20260617
DTEND;VALUE=DATE:20260619
DTSTAMP:20260420T201844
CREATED:20260216T175830Z
LAST-MODIFIED:20260216T175853Z
UID:23810-1781654400-1781827199@www.its-uk.org
SUMMARY:MOVE
DESCRIPTION:Join ITS UK at MOVE\, the leading trade show for mobility and transport technology. \nTaking place from 17 to 18 June at the Excel in London\, MOVE unites OEMs\, government\, fleets\, micromobilities\, utilities\, energy providers\, start-ups\, investors\, tech and media. The show is focused on brinnging together the entire mobility ecosystem\, focusing on tech\, innovation\, and transformation. \nFind the link to the event here\nITS UK members can secure 50% off their ticket. To secure your discount code\, please email log in to the Members Area here and find the code under ‘Events’. \n\nITS UK is holding its annual Parliamentary Reception the afternoon before MOVE\, on 16 June. This is free for Members – find out more here.
URL:https://www.its-uk.org/event/move-2/
LOCATION:MOVE\, Excel\, 1 Western Gateway\, Royal Victoria Dock\, London\, E16 1XL\, United Kingdom
ATTACH;FMTTYPE=image/jpeg:https://www.its-uk.org/wp-content/uploads/2025/04/1710320217-busy-2-scaled.jpeg
END:VEVENT
END:VCALENDAR